BEGIN:VCALENDAR
VERSION:2.0
PRODID:-//neXco - ECPv6.15.20//NONSGML v1.0//EN
CALSCALE:GREGORIAN
METHOD:PUBLISH
X-WR-CALNAME:neXco
X-ORIGINAL-URL:https://nexconational.com
X-WR-CALDESC:Events for neXco
REFRESH-INTERVAL;VALUE=DURATION:PT1H
X-Robots-Tag:noindex
X-PUBLISHED-TTL:PT1H
BEGIN:VTIMEZONE
TZID:America/New_York
BEGIN:DAYLIGHT
TZOFFSETFROM:-0500
TZOFFSETTO:-0400
TZNAME:EDT
DTSTART:20220313T070000
END:DAYLIGHT
BEGIN:STANDARD
TZOFFSETFROM:-0400
TZOFFSETTO:-0500
TZNAME:EST
DTSTART:20221106T060000
END:STANDARD
BEGIN:DAYLIGHT
TZOFFSETFROM:-0500
TZOFFSETTO:-0400
TZNAME:EDT
DTSTART:20230312T070000
END:DAYLIGHT
BEGIN:STANDARD
TZOFFSETFROM:-0400
TZOFFSETTO:-0500
TZNAME:EST
DTSTART:20231105T060000
END:STANDARD
BEGIN:DAYLIGHT
TZOFFSETFROM:-0500
TZOFFSETTO:-0400
TZNAME:EDT
DTSTART:20240310T070000
END:DAYLIGHT
BEGIN:STANDARD
TZOFFSETFROM:-0400
TZOFFSETTO:-0500
TZNAME:EST
DTSTART:20241103T060000
END:STANDARD
END:VTIMEZONE
BEGIN:VEVENT
DTSTART;TZID=America/New_York:20230313T180000
DTEND;TZID=America/New_York:20230313T200000
DTSTAMP:20260423T170757
CREATED:20230628T073255Z
LAST-MODIFIED:20230629T001058Z
UID:10000766-1678730400-1678737600@nexconational.com
SUMMARY:Springfield B2B In Person Networking
DESCRIPTION:Please join us at the Capital Ale House in Fairfax 6:00pm-8:00pm.\n\n\n\nRSVP to Bob Braden at rbradenjr@shinemanagement.com \n\n\nCapital Ale House\n4069 Chain Bridge Rd Suite 3D\nFairfax\, VA 22030
URL:https://nexconational.com/event/springfield-b2b-in-person-networking-7-13-2/2023-03-13/
LOCATION:Capital Ale House\, 4069 Chain Bridge Rd\, Fairfax\, VA\, 22030\, United States
CATEGORIES:Chapter & Cross Chapter Socials
ORGANIZER;CN="neXco National":MAILTO:info@nexconational.com
END:VEVENT
BEGIN:VEVENT
DTSTART;TZID=America/New_York:20230322T173000
DTEND;TZID=America/New_York:20230322T183000
DTSTAMP:20260423T170757
CREATED:20230302T221558Z
LAST-MODIFIED:20230302T221558Z
UID:10000669-1679506200-1679509800@nexconational.com
SUMMARY:National Chapter Social
DESCRIPTION:neXco National Chapter hosts monthly online social events. We make they are fun\, interactive and nothing like you’ve experienced at other online social events! \nWe’ve replaced the awkward silence with a fast-paced social event to help you get to know the other attendees in a casual and fun environment. \nThis month we will be playing a Trivia Game. \nClick here to RSVP – \nhttps://www.eventbrite.com/e/nexco-national-chapter-march-social-tickets-569844970647
URL:https://nexconational.com/event/national-chapter-social/
LOCATION:VA
CATEGORIES:Chapter & Cross Chapter Socials,Virtual Community Events
ATTACH;FMTTYPE=image/png:https://nexconational.com/wp-content/uploads/2023/03/neXco-National-Chapter-Virtual-Social-March-22-2023-530-pm-EDT.png
END:VEVENT
BEGIN:VEVENT
DTSTART;TZID=America/New_York:20230330T170000
DTEND;TZID=America/New_York:20230330T200000
DTSTAMP:20260423T170757
CREATED:20230308T204223Z
LAST-MODIFIED:20230308T204223Z
UID:10000670-1680195600-1680206400@nexconational.com
SUMMARY:GovCon IV Chapter In Person Networking
DESCRIPTION:Come out and meet some new folks for some great networking at our neXco Happy Hour! \nFree and open to members and anyone else! \nMake connections\, build relationships and open doors to new opportunities. \nAgain\, all are welcome – and bring a friend (or two)! The event will be held at Randy’s (attached to Patsy’s) in Tysons. We will gather in the back room/porch area past the bar. \nHope you can make it! \nHere are your hosts:\nRaf Martinez\, Virginia Partners Bank\nNicole McNamara\, Robinson & Stover\nWhit Robinson\, Robinson & Stover\nRey Martinez de Andino\, Tenace\nGary Ryan\, Chess Consulting\nChris Brown\, Aldebaron\nMark Sweeney\, Prudential\nMike Cannon\, CitrenCooperman\nMahesh Hegde\, Sahouri Insurance\nDanny Austin\, Spartan Shield Solutions\nSteve Delahunty\, Arcetyp\nNick Schutt\, Artemis Human Capital Management \nRSVP via EventBrite: \nhttps://www.eventbrite.com/e/come-out-and-meet-some-new-folks-at-our-nexco-happy-hour-tickets-574980771967 \nEmail Gary Ryan with questions: gryan@chessconsultingllc.com
URL:https://nexconational.com/event/govcon-iv-chapter-in-person-networking-2/
LOCATION:VA
CATEGORIES:Chapter & Cross Chapter Socials
END:VEVENT
END:VCALENDAR