BEGIN:VCALENDAR
VERSION:2.0
PRODID:-//neXco - ECPv6.15.20//NONSGML v1.0//EN
CALSCALE:GREGORIAN
METHOD:PUBLISH
X-ORIGINAL-URL:https://nexconational.com
X-WR-CALDESC:Events for neXco
REFRESH-INTERVAL;VALUE=DURATION:PT1H
X-Robots-Tag:noindex
X-PUBLISHED-TTL:PT1H
BEGIN:VTIMEZONE
TZID:America/Chicago
BEGIN:DAYLIGHT
TZOFFSETFROM:-0600
TZOFFSETTO:-0500
TZNAME:CDT
DTSTART:20220313T080000
END:DAYLIGHT
BEGIN:STANDARD
TZOFFSETFROM:-0500
TZOFFSETTO:-0600
TZNAME:CST
DTSTART:20221106T070000
END:STANDARD
BEGIN:DAYLIGHT
TZOFFSETFROM:-0600
TZOFFSETTO:-0500
TZNAME:CDT
DTSTART:20230312T080000
END:DAYLIGHT
BEGIN:STANDARD
TZOFFSETFROM:-0500
TZOFFSETTO:-0600
TZNAME:CST
DTSTART:20231105T070000
END:STANDARD
BEGIN:DAYLIGHT
TZOFFSETFROM:-0600
TZOFFSETTO:-0500
TZNAME:CDT
DTSTART:20240310T080000
END:DAYLIGHT
BEGIN:STANDARD
TZOFFSETFROM:-0500
TZOFFSETTO:-0600
TZNAME:CST
DTSTART:20241103T070000
END:STANDARD
END:VTIMEZONE
BEGIN:VTIMEZONE
TZID:America/New_York
BEGIN:DAYLIGHT
TZOFFSETFROM:-0500
TZOFFSETTO:-0400
TZNAME:EDT
DTSTART:20220313T070000
END:DAYLIGHT
BEGIN:STANDARD
TZOFFSETFROM:-0400
TZOFFSETTO:-0500
TZNAME:EST
DTSTART:20221106T060000
END:STANDARD
BEGIN:DAYLIGHT
TZOFFSETFROM:-0500
TZOFFSETTO:-0400
TZNAME:EDT
DTSTART:20230312T070000
END:DAYLIGHT
BEGIN:STANDARD
TZOFFSETFROM:-0400
TZOFFSETTO:-0500
TZNAME:EST
DTSTART:20231105T060000
END:STANDARD
BEGIN:DAYLIGHT
TZOFFSETFROM:-0500
TZOFFSETTO:-0400
TZNAME:EDT
DTSTART:20240310T070000
END:DAYLIGHT
BEGIN:STANDARD
TZOFFSETFROM:-0400
TZOFFSETTO:-0500
TZNAME:EST
DTSTART:20241103T060000
END:STANDARD
END:VTIMEZONE
BEGIN:VEVENT
DTSTART;TZID=America/Chicago:20231102T163000
DTEND;TZID=America/Chicago:20231102T183000
DTSTAMP:20260422T172205
CREATED:20231023T162234Z
LAST-MODIFIED:20231025T171553Z
UID:10000802-1698942600-1698949800@nexconational.com
SUMMARY:Austin\, TX B2B Networking at TopGolf
DESCRIPTION:neXco Austin\, TX B2B and Moxie360 will hold a happy hour at TopGolf Austin on Thursday\, November 2nd from 4:30pm – 6:30pm (CDT). Join us to meet the neXco Austin\, TX B2B chapter members while we network\, golf\, and make new connections! No RSVP is required. \nWe thank Moxie360 Marketing for sponsoring our Golf Bay fees!
URL:https://nexconational.com/event/austin-tx-b2b-networking-at-topgolf/
LOCATION:Topgolf Austin\, 2700 Esperanza Crossing\, Austin\, TX\, 78758\, United States
CATEGORIES:Chapter & Cross Chapter Socials
ATTACH;FMTTYPE=image/jpeg:https://nexconational.com/wp-content/uploads/2023/10/topgolf-flyer-scaled.jpg
END:VEVENT
BEGIN:VEVENT
DTSTART;TZID=America/New_York:20231113T180000
DTEND;TZID=America/New_York:20231113T200000
DTSTAMP:20260422T172205
CREATED:20230909T173421Z
LAST-MODIFIED:20230909T173422Z
UID:10000774-1699898400-1699905600@nexconational.com
SUMMARY:Springfield B2B In Person Networking
DESCRIPTION:Please join us at the Capital Ale House in Fairfax 6:00pm-8:00pm.\n\n\n\nRSVP to Bob Braden at rbradenjr@shinemanagement.com \n\n\nCapital Ale House\n4069 Chain Bridge Rd Suite 3D\nFairfax\, VA 22030
URL:https://nexconational.com/event/springfield-b2b-in-person-networking-7-13-2-2/2023-11-13/
LOCATION:Capital Ale House\, 4069 Chain Bridge Rd\, Fairfax\, VA\, 22030\, United States
CATEGORIES:Chapter & Cross Chapter Socials
ORGANIZER;CN="neXco National":MAILTO:info@nexconational.com
END:VEVENT
BEGIN:VEVENT
DTSTART;TZID=America/New_York:202311-to-1T160000
DTEND;TZID=America/New_York:202311-to-1T170000
DTSTAMP:20260422T172205
CREATED:20230926T124450Z
LAST-MODIFIED:20230926T130158Z
UID:10000799-1700582400-1700586000@nexconational.com
SUMMARY:neXco National Virtual Networking
DESCRIPTION:Join us for a neXco National Virtual Networking meeting on Tuesday\, November 21\, 2023 at 4:00 pm.  Participate in speed networking\, professional development discussions and learn about our community.  All members and guests are welcome to attend!
URL:https://nexconational.com/event/nexco-national-virtual-networking/
LOCATION:Zoom
CATEGORIES:Chapter & Cross Chapter Socials
ATTACH;FMTTYPE=image/png:https://nexconational.com/wp-content/uploads/2023/09/B2B-Speed-Networking-2.png
ORGANIZER;CN="neXco National":MAILTO:info@nexconational.com
END:VEVENT
BEGIN:VEVENT
DTSTART;TZID=America/New_York:20231128T173000
DTEND;TZID=America/New_York:20231128T190000
DTSTAMP:20260422T172205
CREATED:20231115T132548Z
LAST-MODIFIED:20231115T132548Z
UID:10000876-1701192600-1701198000@nexconational.com
SUMMARY:DC Capital Area B2B Chapter Happy Hour
DESCRIPTION:We are excited to invite you to the NeXco National DC Capital Area B2B Chapter Happy Hour\, taking place on Tuesday\, November 28th\, from 5:30 PM to 7:00 PM. \nThis event promises to be an excellent opportunity to unwind\, network\, and connect with fellow professionals in the B2B industry. Whether you’re a long-time member of our chapter or a newcomer looking to explore the benefits of our vibrant community\, we welcome you to join us for an evening of camaraderie and business discussions. \nHere are the event details: \nDate: Tuesday\, November 28\, 2023 Time: 5:30 PM – 7:00 PM \nLocation: The Green Zone – 2226 18th St NW\, Washington\, DC 20009 \nWhat to Expect: \nEngaging conversations with like-minded professionals\nNetworking opportunities to expand your business contacts \nWe encourage you to bring your business cards and a friendly attitude for an enjoyable evening.\nIf you have any questions\, please contact me. \nWe look forward to seeing you at the neXco National DC Capital Area B2B Chapter Happy Hour. Let’s raise a glass to success and new connections!
URL:https://nexconational.com/event/dc-capital-area-b2b-chapter-happy-hour/
LOCATION:The Green Zone\, 2226 18th St NW\, Washington\, DC\, 20009\, United States
CATEGORIES:Chapter & Cross Chapter Socials
ORGANIZER;CN="DC Capital Area B2B Chapter":MAILTO:info@traxmethod.com
END:VEVENT
BEGIN:VEVENT
DTSTART;TZID=America/New_York:20231129T160000
DTEND;TZID=America/New_York:20231129T170000
DTSTAMP:20260422T172205
CREATED:20230926T124746Z
LAST-MODIFIED:20230926T130224Z
UID:10000800-1701273600-1701277200@nexconational.com
SUMMARY:neXco National Virtual Networking
DESCRIPTION:Join us for a neXco National Virtual Networking meeting on Wednesday\, November 29\, 2023 at 4:00 pm.  Participate in speed networking\, professional development discussions and learn about our community.  All members and guests are welcome to attend!
URL:https://nexconational.com/event/nexco-national-virtual-networking-2/
LOCATION:Zoom
CATEGORIES:Chapter & Cross Chapter Socials
ATTACH;FMTTYPE=image/png:https://nexconational.com/wp-content/uploads/2023/09/B2B-Speed-Networking.png
ORGANIZER;CN="neXco National":MAILTO:info@nexconational.com
END:VEVENT
END:VCALENDAR