BEGIN:VCALENDAR
VERSION:2.0
PRODID:-//neXco - ECPv6.15.20//NONSGML v1.0//EN
CALSCALE:GREGORIAN
METHOD:PUBLISH
X-ORIGINAL-URL:https://nexconational.com
X-WR-CALDESC:Events for neXco
REFRESH-INTERVAL;VALUE=DURATION:PT1H
X-Robots-Tag:noindex
X-PUBLISHED-TTL:PT1H
BEGIN:VTIMEZONE
TZID:America/New_York
BEGIN:DAYLIGHT
TZOFFSETFROM:-0500
TZOFFSETTO:-0400
TZNAME:EDT
DTSTART:20220313T070000
END:DAYLIGHT
BEGIN:STANDARD
TZOFFSETFROM:-0400
TZOFFSETTO:-0500
TZNAME:EST
DTSTART:20221106T060000
END:STANDARD
BEGIN:DAYLIGHT
TZOFFSETFROM:-0500
TZOFFSETTO:-0400
TZNAME:EDT
DTSTART:20230312T070000
END:DAYLIGHT
BEGIN:STANDARD
TZOFFSETFROM:-0400
TZOFFSETTO:-0500
TZNAME:EST
DTSTART:20231105T060000
END:STANDARD
BEGIN:DAYLIGHT
TZOFFSETFROM:-0500
TZOFFSETTO:-0400
TZNAME:EDT
DTSTART:20240310T070000
END:DAYLIGHT
BEGIN:STANDARD
TZOFFSETFROM:-0400
TZOFFSETTO:-0500
TZNAME:EST
DTSTART:20241103T060000
END:STANDARD
END:VTIMEZONE
BEGIN:VEVENT
DTSTART;TZID=America/New_York:20231-to-11T180000
DTEND;TZID=America/New_York:20231-to-11T200000
DTSTAMP:20260422T052635
CREATED:20230909T173421Z
LAST-MODIFIED:20230909T173422Z
UID:10000775-1702317600-1702324800@nexconational.com
SUMMARY:Springfield B2B In Person Networking
DESCRIPTION:Please join us at the Capital Ale House in Fairfax 6:00pm-8:00pm.\n\n\n\nRSVP to Bob Braden at rbradenjr@shinemanagement.com \n\n\nCapital Ale House\n4069 Chain Bridge Rd Suite 3D\nFairfax\, VA 22030
URL:https://nexconational.com/event/springfield-b2b-in-person-networking-7-13-2-2/2023-12-11/
LOCATION:Capital Ale House\, 4069 Chain Bridge Rd\, Fairfax\, VA\, 22030\, United States
CATEGORIES:Chapter & Cross Chapter Socials
ORGANIZER;CN="neXco National":MAILTO:info@nexconational.com
END:VEVENT
BEGIN:VEVENT
DTSTART;TZID=America/New_York:20231-to-19T173000
DTEND;TZID=America/New_York:20231-to-19T190000
DTSTAMP:20260422T052635
CREATED:20231-to-11T185820Z
LAST-MODIFIED:20231-to-11T185820Z
UID:10000879-1703007000-1703012400@nexconational.com
SUMMARY:DC Capital Area B2B Chapter Happy Hour
DESCRIPTION:Join us at the neXco National’s DC Capital Area B2B Chapter Happy Hour! This exclusive event is a perfect opportunity for professionals in the Washington D.C. area to connect\, collaborate\, and create meaningful business relationships. Whether you’re looking to expand your network\, find potential clients\, or simply share insights with like-minded individuals\, our Happy Hour offers the ideal setting. Indulge in delightful refreshments and engaging conversations in a relaxed\, professional atmosphere. Don’t miss out on this chance to enhance your business connections in the heart of the nation’s capital. #Networking #B2BConnections #DCCapitalArea #HappyHourNetworking
URL:https://nexconational.com/event/dc-capital-area-b2b-chapter-happy-hour-2/
LOCATION:Dirty Habit\, 555 8th Street NW\, Washington\, DC\, 20004\, United States
CATEGORIES:Chapter & Cross Chapter Socials
ORGANIZER;CN="DC Capital Area B2B Chapter":MAILTO:info@traxmethod.com
END:VEVENT
END:VCALENDAR