BEGIN:VCALENDAR
VERSION:2.0
PRODID:-//neXco - ECPv6.15.20//NONSGML v1.0//EN
CALSCALE:GREGORIAN
METHOD:PUBLISH
X-ORIGINAL-URL:https://nexconational.com
X-WR-CALDESC:Events for neXco
REFRESH-INTERVAL;VALUE=DURATION:PT1H
X-Robots-Tag:noindex
X-PUBLISHED-TTL:PT1H
BEGIN:VTIMEZONE
TZID:America/New_York
BEGIN:DAYLIGHT
TZOFFSETFROM:-0500
TZOFFSETTO:-0400
TZNAME:EDT
DTSTART:20210314T070000
END:DAYLIGHT
BEGIN:STANDARD
TZOFFSETFROM:-0400
TZOFFSETTO:-0500
TZNAME:EST
DTSTART:20211107T060000
END:STANDARD
BEGIN:DAYLIGHT
TZOFFSETFROM:-0500
TZOFFSETTO:-0400
TZNAME:EDT
DTSTART:20220313T070000
END:DAYLIGHT
BEGIN:STANDARD
TZOFFSETFROM:-0400
TZOFFSETTO:-0500
TZNAME:EST
DTSTART:20221106T060000
END:STANDARD
BEGIN:DAYLIGHT
TZOFFSETFROM:-0500
TZOFFSETTO:-0400
TZNAME:EDT
DTSTART:20230312T070000
END:DAYLIGHT
BEGIN:STANDARD
TZOFFSETFROM:-0400
TZOFFSETTO:-0500
TZNAME:EST
DTSTART:20231105T060000
END:STANDARD
END:VTIMEZONE
BEGIN:VEVENT
DTSTART;TZID=America/New_York:20221130T173000
DTEND;TZID=America/New_York:20221130T183000
DTSTAMP:20260424T004203
CREATED:20220223T191400Z
LAST-MODIFIED:20220223T191400Z
UID:10000416-1669829400-1669833000@nexconational.com
SUMMARY:National Chapter B2B Virtual Networking
DESCRIPTION:Join us on November 30th at 5:30pm (Eastern\, 2:30pm Pacific) – come with a cocktail\, come with your tea! \n\n\nNetworking for all of National B2B Chapter Members AND all of neXco!  If you can’t make it to an in person event near you\, come and visit with us\, we’d love to get to know you! \n\n\nTo attend please register on Eventbrite.  \n\n 
URL:https://nexconational.com/event/national-chapter-b2b-virtual-networking-2022-11-23/
LOCATION:VA
CATEGORIES:Chapter & Cross Chapter Socials
ATTACH;FMTTYPE=image/png:https://nexconational.com/wp-content/uploads/2022/02/Nexco-National-Networking-Events-Email-2.png
END:VEVENT
END:VCALENDAR