BEGIN:VCALENDAR
VERSION:2.0
PRODID:-//neXco - ECPv6.15.20//NONSGML v1.0//EN
CALSCALE:GREGORIAN
METHOD:PUBLISH
X-ORIGINAL-URL:https://nexconational.com
X-WR-CALDESC:Events for neXco
REFRESH-INTERVAL;VALUE=DURATION:PT1H
X-Robots-Tag:noindex
X-PUBLISHED-TTL:PT1H
BEGIN:VTIMEZONE
TZID:America/New_York
BEGIN:DAYLIGHT
TZOFFSETFROM:-0500
TZOFFSETTO:-0400
TZNAME:EDT
DTSTART:20220313T070000
END:DAYLIGHT
BEGIN:STANDARD
TZOFFSETFROM:-0400
TZOFFSETTO:-0500
TZNAME:EST
DTSTART:20221106T060000
END:STANDARD
BEGIN:DAYLIGHT
TZOFFSETFROM:-0500
TZOFFSETTO:-0400
TZNAME:EDT
DTSTART:20230312T070000
END:DAYLIGHT
BEGIN:STANDARD
TZOFFSETFROM:-0400
TZOFFSETTO:-0500
TZNAME:EST
DTSTART:20231105T060000
END:STANDARD
BEGIN:DAYLIGHT
TZOFFSETFROM:-0500
TZOFFSETTO:-0400
TZNAME:EDT
DTSTART:20240310T070000
END:DAYLIGHT
BEGIN:STANDARD
TZOFFSETFROM:-0400
TZOFFSETTO:-0500
TZNAME:EST
DTSTART:20241103T060000
END:STANDARD
END:VTIMEZONE
BEGIN:VEVENT
DTSTART;TZID=America/New_York:20230426T170000
DTEND;TZID=America/New_York:20230426T190000
DTSTAMP:20260423T183254
CREATED:20230420T163419Z
LAST-MODIFIED:20230420T163419Z
UID:10000741-1682528400-1682535600@nexconational.com
SUMMARY:Baltimore / Charm City Monthly Chapter Networking
DESCRIPTION:Cross Chapter Networking at Mount Washington Tavern. No RSVP necessary. \n  \nMt. Washington Tavern\n5700 Newbury St.\,\nBaltimore\, MD 21209
URL:https://nexconational.com/event/baltimore-charm-city-monthly-chapter-networking/
LOCATION:VA
CATEGORIES:Chapter & Cross Chapter Socials
END:VEVENT
END:VCALENDAR