BEGIN:VCALENDAR
VERSION:2.0
PRODID:-//neXco - ECPv6.15.20//NONSGML v1.0//EN
CALSCALE:GREGORIAN
METHOD:PUBLISH
X-WR-CALNAME:neXco
X-ORIGINAL-URL:https://nexconational.com
X-WR-CALDESC:Events for neXco
REFRESH-INTERVAL;VALUE=DURATION:PT1H
X-Robots-Tag:noindex
X-PUBLISHED-TTL:PT1H
BEGIN:VTIMEZONE
TZID:America/Chicago
BEGIN:DAYLIGHT
TZOFFSETFROM:-0600
TZOFFSETTO:-0500
TZNAME:CDT
DTSTART:20230312T080000
END:DAYLIGHT
BEGIN:STANDARD
TZOFFSETFROM:-0500
TZOFFSETTO:-0600
TZNAME:CST
DTSTART:20231105T070000
END:STANDARD
BEGIN:DAYLIGHT
TZOFFSETFROM:-0600
TZOFFSETTO:-0500
TZNAME:CDT
DTSTART:20240310T080000
END:DAYLIGHT
BEGIN:STANDARD
TZOFFSETFROM:-0500
TZOFFSETTO:-0600
TZNAME:CST
DTSTART:20241103T070000
END:STANDARD
BEGIN:DAYLIGHT
TZOFFSETFROM:-0600
TZOFFSETTO:-0500
TZNAME:CDT
DTSTART:20250309T080000
END:DAYLIGHT
BEGIN:STANDARD
TZOFFSETFROM:-0500
TZOFFSETTO:-0600
TZNAME:CST
DTSTART:20251102T070000
END:STANDARD
END:VTIMEZONE
BEGIN:VEVENT
DTSTART;TZID=America/Chicago:20241017T163000
DTEND;TZID=America/Chicago:20241017T183000
DTSTAMP:20260420T182050
CREATED:20240927T124625Z
LAST-MODIFIED:20240927T124625Z
UID:10001110-1729182600-1729189800@nexconational.com
SUMMARY:Austin\, TX B2B Networking B2B Happy Hour
DESCRIPTION:Join us for an exciting B2B Networking Happy Hour hosted by the neXco National Austin Chapter! \nWhen: October 17th 4:30 PM – 6:30 PM (CT)\nWhere: Firewater Sports Bar Café – 13010 W Parmer Ln STE 300 Cedar Park TX 78613 \nThis is a fantastic opportunity to connect with fellow business professionals share insights and build valuable relationships in a relaxed atmosphere. Engage in meaningful conversations and discover potential collaborations. \nDon’t miss out on expanding your network and growing your business! We look forward to seeing you there.
URL:https://nexconational.com/event/austin-tx-b2b-networking-b2b-happy-hour/2024-10-17/
LOCATION:Firewater Sports Bar Café\, 13010 W Parmer Ln STE 300\, Cedar Park\, TX\, 78613\, United States
CATEGORIES:Chapter & Cross Chapter Socials
ATTACH;FMTTYPE=image/png:https://nexconational.com/wp-content/uploads/2024/09/Cocktails-Commerce.png
END:VEVENT
END:VCALENDAR