BEGIN:VCALENDAR
VERSION:2.0
PRODID:-//neXco - ECPv6.15.20//NONSGML v1.0//EN
CALSCALE:GREGORIAN
METHOD:PUBLISH
X-ORIGINAL-URL:https://nexconational.com
X-WR-CALDESC:Events for neXco
REFRESH-INTERVAL;VALUE=DURATION:PT1H
X-Robots-Tag:noindex
X-PUBLISHED-TTL:PT1H
BEGIN:VTIMEZONE
TZID:America/New_York
BEGIN:DAYLIGHT
TZOFFSETFROM:-0500
TZOFFSETTO:-0400
TZNAME:EDT
DTSTART:20200308T070000
END:DAYLIGHT
BEGIN:STANDARD
TZOFFSETFROM:-0400
TZOFFSETTO:-0500
TZNAME:EST
DTSTART:20201101T060000
END:STANDARD
BEGIN:DAYLIGHT
TZOFFSETFROM:-0500
TZOFFSETTO:-0400
TZNAME:EDT
DTSTART:20210314T070000
END:DAYLIGHT
BEGIN:STANDARD
TZOFFSETFROM:-0400
TZOFFSETTO:-0500
TZNAME:EST
DTSTART:20211107T060000
END:STANDARD
BEGIN:DAYLIGHT
TZOFFSETFROM:-0500
TZOFFSETTO:-0400
TZNAME:EDT
DTSTART:20220313T070000
END:DAYLIGHT
BEGIN:STANDARD
TZOFFSETFROM:-0400
TZOFFSETTO:-0500
TZNAME:EST
DTSTART:20221106T060000
END:STANDARD
BEGIN:DAYLIGHT
TZOFFSETFROM:-0500
TZOFFSETTO:-0400
TZNAME:EDT
DTSTART:20230312T070000
END:DAYLIGHT
BEGIN:STANDARD
TZOFFSETFROM:-0400
TZOFFSETTO:-0500
TZNAME:EST
DTSTART:20231105T060000
END:STANDARD
END:VTIMEZONE
BEGIN:VEVENT
DTSTART;TZID=America/New_York:20220622T173000
DTEND;TZID=America/New_York:20220622T183000
DTSTAMP:20260419T230609
CREATED:20220223T191400Z
LAST-MODIFIED:20220223T191400Z
UID:10000407-1655919000-1655922600@nexconational.com
SUMMARY:National Chapter B2B Virtual Networking
DESCRIPTION:Join us at 5:30pm (Eastern\, 2:30pm Pacific) – come with a cocktail\, come with your tea! \n\n\nNetworking for all of National B2B Chapter Members & guests AND All of neXco!  If you can’t make it to an in person event near you\, come and visit with us\, we’d love to get to know you! \n\n\nRSVP to: nationalb2bleaders@nexconational.com \n\n 
URL:https://nexconational.com/event/national-chapter-b2b-virtual-networking-3/2022-06-22/
CATEGORIES:Chapter & Cross Chapter Socials
END:VEVENT
BEGIN:VEVENT
DTSTART;TZID=America/New_York:20220622T173000
DTEND;TZID=America/New_York:20220622T183000
DTSTAMP:20260419T230609
CREATED:20220223T191400Z
LAST-MODIFIED:20220223T191400Z
UID:10000410-1655919000-1655922600@nexconational.com
SUMMARY:National Chapter B2B Virtual Networking
DESCRIPTION:Join us at 5:30pm (Eastern\, 2:30pm Pacific) – come with a cocktail\, come with your tea! \n\n\nNetworking for all of National B2B Chapter Members & guests AND All of neXco!  If you can’t make it to an in person event near you\, come and visit with us\, we’d love to get to know you! \n\n\nRSVP to: nationalb2bleaders@nexconational.com \n\n 
URL:https://nexconational.com/event/national-chapter-b2b-virtual-networking-4/2022-06-22/
CATEGORIES:Chapter & Cross Chapter Socials
END:VEVENT
BEGIN:VEVENT
DTSTART;TZID=America/New_York:20220622T173000
DTEND;TZID=America/New_York:20220622T183000
DTSTAMP:20260419T230609
CREATED:20220223T191400Z
LAST-MODIFIED:20220223T191400Z
UID:10000403-1655919000-1655922600@nexconational.com
SUMMARY:National Chapter B2B Virtual Networking
DESCRIPTION:Join us at 5:30pm (Eastern\, 2:30pm Pacific) – come with a cocktail\, come with your tea! \n\n\nNetworking for all of National B2B Chapter Members & guests AND All of neXco!  If you can’t make it to an in person event near you\, come and visit with us\, we’d love to get to know you! \n\n\nRSVP to: nationalb2bleaders@nexconational.com \n\n 
URL:https://nexconational.com/event/national-chapter-b2b-virtual-networking-2/2022-06-22/
CATEGORIES:Chapter & Cross Chapter Socials
END:VEVENT
BEGIN:VEVENT
DTSTART;TZID=America/New_York:20220622T173000
DTEND;TZID=America/New_York:20220622T183000
DTSTAMP:20260419T230609
CREATED:20220223T191400Z
LAST-MODIFIED:20220223T191400Z
UID:10000412-1655919000-1655922600@nexconational.com
SUMMARY:National Chapter B2B Virtual Networking
DESCRIPTION:Join us at 5:30pm (Eastern\, 2:30pm Pacific) – come with a cocktail\, come with your tea! \n\n\nNetworking for all of National B2B Chapter Members & guests AND All of neXco!  If you can’t make it to an in person event near you\, come and visit with us\, we’d love to get to know you! \n\n\nRSVP to: nationalb2bleaders@nexconational.com \n\n 
URL:https://nexconational.com/event/national-chapter-b2b-virtual-networking-5/2022-06-22/
CATEGORIES:Chapter & Cross Chapter Socials
END:VEVENT
BEGIN:VEVENT
DTSTART;TZID=America/New_York:20220613T180000
DTEND;TZID=America/New_York:20220613T200000
DTSTAMP:20260419T230609
CREATED:20220419T052647Z
LAST-MODIFIED:20220419T052647Z
UID:10000446-1655143200-1655150400@nexconational.com
SUMMARY:Springfield B2B In Person Networking
DESCRIPTION:Please join us at the Capital Ale House in Fairfax 6:00pm-8:00pm. RSVP to Bob Braden at rbradenjr@shinemanagement.com \nCapital Ale House\n4069 Chain Bridge Rd Suite 3D\nFairfax\, VA 22030
URL:https://nexconational.com/event/in-person-networking/
CATEGORIES:Chapter & Cross Chapter Socials
END:VEVENT
BEGIN:VEVENT
DTSTART;TZID=America/New_York:20220603T080000
DTEND;TZID=America/New_York:20220603T100000
DTSTAMP:20260419T230609
CREATED:20220427T055002Z
LAST-MODIFIED:20220427T055002Z
UID:10000430-1654243200-1654250400@nexconational.com
SUMMARY:Power Players Resource Group
DESCRIPTION:Are you a power player? Do you like to network early in the morning? \nCome join us for coffee and open networking the first Friday of each month from 8:00 – 10:00 AM at La Madeline in Reston! \nThe Power Players Resource Group is a gathering of strong networking colleagues inside and outside of neXco and the intent of the group is to gather networking partners together to collaborate and congregate. \nCome grab a beignet\, croissant and cup of coffee and join us for PPRG! \nIf you have questions please contact Paul Kashchy –Paul@nexconational.com
URL:https://nexconational.com/event/power-players-resource-group-2/2022-06-03/
CATEGORIES:Chapter & Cross Chapter Socials
ATTACH;FMTTYPE=image/jpeg:https://nexconational.com/wp-content/uploads/2022/04/Overcomer.jpg
END:VEVENT
BEGIN:VEVENT
DTSTART;TZID=America/New_York:20220603T080000
DTEND;TZID=America/New_York:20220603T100000
DTSTAMP:20260419T230609
CREATED:20220427T055002Z
LAST-MODIFIED:20220427T055002Z
UID:10000425-1654243200-1654250400@nexconational.com
SUMMARY:Power Players Resource Group
DESCRIPTION:Are you a power player? Do you like to network early in the morning? \nCome join us for coffee and open networking the first Friday of each month from 8:00 – 10:00 AM at La Madeline in Reston! \nThe Power Players Resource Group is a gathering of strong networking colleagues inside and outside of neXco and the intent of the group is to gather networking partners together to collaborate and congregate. \nCome grab a beignet\, croissant and cup of coffee and join us for PPRG! \nIf you have questions please contact Paul Kashchy –Paul@nexconational.com
URL:https://nexconational.com/event/power-players-resource-group/2022-06-03/
CATEGORIES:Chapter & Cross Chapter Socials
ATTACH;FMTTYPE=image/jpeg:https://nexconational.com/wp-content/uploads/2022/04/Overcomer.jpg
END:VEVENT
BEGIN:VEVENT
DTSTART;TZID=America/New_York:20220525T173000
DTEND;TZID=America/New_York:20220525T183000
DTSTAMP:20260419T230609
CREATED:20220223T191400Z
LAST-MODIFIED:20220223T191400Z
UID:10000406-1653499800-1653503400@nexconational.com
SUMMARY:National Chapter B2B Virtual Networking
DESCRIPTION:Join us at 5:30pm (Eastern\, 2:30pm Pacific) – come with a cocktail\, come with your tea! \n\n\nNetworking for all of National B2B Chapter Members & guests AND All of neXco!  If you can’t make it to an in person event near you\, come and visit with us\, we’d love to get to know you! \n\n\nRSVP to: nationalb2bleaders@nexconational.com \n\n 
URL:https://nexconational.com/event/national-chapter-b2b-virtual-networking-3/2022-05-25/
CATEGORIES:Chapter & Cross Chapter Socials
END:VEVENT
BEGIN:VEVENT
DTSTART;TZID=America/New_York:20220525T173000
DTEND;TZID=America/New_York:20220525T183000
DTSTAMP:20260419T230609
CREATED:20220223T191400Z
LAST-MODIFIED:20220223T191400Z
UID:10000409-1653499800-1653503400@nexconational.com
SUMMARY:National Chapter B2B Virtual Networking
DESCRIPTION:Join us at 5:30pm (Eastern\, 2:30pm Pacific) – come with a cocktail\, come with your tea! \n\n\nNetworking for all of National B2B Chapter Members & guests AND All of neXco!  If you can’t make it to an in person event near you\, come and visit with us\, we’d love to get to know you! \n\n\nRSVP to: nationalb2bleaders@nexconational.com \n\n 
URL:https://nexconational.com/event/national-chapter-b2b-virtual-networking-4/2022-05-25/
CATEGORIES:Chapter & Cross Chapter Socials
END:VEVENT
BEGIN:VEVENT
DTSTART;TZID=America/New_York:20220525T173000
DTEND;TZID=America/New_York:20220525T183000
DTSTAMP:20260419T230609
CREATED:20220223T191400Z
LAST-MODIFIED:20220223T191400Z
UID:10000402-1653499800-1653503400@nexconational.com
SUMMARY:National Chapter B2B Virtual Networking
DESCRIPTION:Join us at 5:30pm (Eastern\, 2:30pm Pacific) – come with a cocktail\, come with your tea! \n\n\nNetworking for all of National B2B Chapter Members & guests AND All of neXco!  If you can’t make it to an in person event near you\, come and visit with us\, we’d love to get to know you! \n\n\nRSVP to: nationalb2bleaders@nexconational.com \n\n 
URL:https://nexconational.com/event/national-chapter-b2b-virtual-networking-2/2022-05-25/
CATEGORIES:Chapter & Cross Chapter Socials
END:VEVENT
BEGIN:VEVENT
DTSTART;TZID=America/New_York:20220525T173000
DTEND;TZID=America/New_York:20220525T183000
DTSTAMP:20260419T230609
CREATED:20220223T191400Z
LAST-MODIFIED:20220223T191400Z
UID:10000397-1653499800-1653503400@nexconational.com
SUMMARY:National Chapter B2B Virtual Networking
DESCRIPTION:Join us at 5:30pm (Eastern\, 2:30pm Pacific) – come with a cocktail\, come with your tea! \n\n\nNetworking for all of National B2B Chapter Members & guests AND All of neXco!  If you can’t make it to an in person event near you\, come and visit with us\, we’d love to get to know you! \n\n\nRSVP to: nationalb2bleaders@nexconational.com \n\n 
URL:https://nexconational.com/event/national-chapter-b2b-virtual-networking/2022-05-25/
CATEGORIES:Chapter & Cross Chapter Socials
END:VEVENT
BEGIN:VEVENT
DTSTART;TZID=America/New_York:20220509T180000
DTEND;TZID=America/New_York:20220509T200000
DTSTAMP:20260419T230609
CREATED:20220419T052526Z
LAST-MODIFIED:20220419T052526Z
UID:10000445-1652119200-1652126400@nexconational.com
SUMMARY:Springfield B2B In Person Networking
DESCRIPTION:Please join us at the Capital Ale House in Fairfax 6:00pm-8:00pm. RSVP to Bob Braden at rbradenjr@shinemanagement.com \nCapital Ale House\n4069 Chain Bridge Rd Suite 3D\nFairfax\, VA 22030
URL:https://nexconational.com/event/springfield-b2b-happy-hour-2/
CATEGORIES:Chapter & Cross Chapter Socials
END:VEVENT
BEGIN:VEVENT
DTSTART;TZID=America/New_York:20220506T080000
DTEND;TZID=America/New_York:20220506T100000
DTSTAMP:20260419T230609
CREATED:20220427T055002Z
LAST-MODIFIED:20220427T055002Z
UID:10000424-1651824000-1651831200@nexconational.com
SUMMARY:Power Players Resource Group
DESCRIPTION:Are you a power player? Do you like to network early in the morning? \nCome join us for coffee and open networking the first Friday of each month from 8:00 – 10:00 AM at La Madeline in Reston! \nThe Power Players Resource Group is a gathering of strong networking colleagues inside and outside of neXco and the intent of the group is to gather networking partners together to collaborate and congregate. \nCome grab a beignet\, croissant and cup of coffee and join us for PPRG! \nIf you have questions please contact Paul Kashchy –Paul@nexconational.com
URL:https://nexconational.com/event/power-players-resource-group/2022-05-06/
CATEGORIES:Chapter & Cross Chapter Socials
ATTACH;FMTTYPE=image/jpeg:https://nexconational.com/wp-content/uploads/2022/04/Overcomer.jpg
END:VEVENT
BEGIN:VEVENT
DTSTART;TZID=America/New_York:20220503T163000
DTEND;TZID=America/New_York:20220503T183000
DTSTAMP:20260419T230609
CREATED:20220405T220609Z
LAST-MODIFIED:20220405T220609Z
UID:10000422-1651595400-1651602600@nexconational.com
SUMMARY:Montgomery County B2B Chapter Social
DESCRIPTION:Join the Montgomery County B2B chapter at Lone Oak Farm Brewing Co.\, 5000 Olney Laytonsville Rd\, Olney\, MD  20832. No RSVP necessary. \n 
URL:https://nexconational.com/event/montgomery-county-b2b-chapter-social/
CATEGORIES:Chapter & Cross Chapter Socials
END:VEVENT
BEGIN:VEVENT
DTSTART;TZID=America/New_York:20220427T173000
DTEND;TZID=America/New_York:20220427T183000
DTSTAMP:20260419T230609
CREATED:20220223T191400Z
LAST-MODIFIED:20220223T191400Z
UID:10000401-1651080600-1651084200@nexconational.com
SUMMARY:National Chapter B2B Virtual Networking
DESCRIPTION:Join us at 5:30pm (Eastern\, 2:30pm Pacific) – come with a cocktail\, come with your tea! \n\n\nNetworking for all of National B2B Chapter Members & guests AND All of neXco!  If you can’t make it to an in person event near you\, come and visit with us\, we’d love to get to know you! \n\n\nRSVP to: nationalb2bleaders@nexconational.com \n\n 
URL:https://nexconational.com/event/national-chapter-b2b-virtual-networking-2/2022-04-27/
CATEGORIES:Chapter & Cross Chapter Socials
END:VEVENT
BEGIN:VEVENT
DTSTART;TZID=America/New_York:20220427T173000
DTEND;TZID=America/New_York:20220427T183000
DTSTAMP:20260419T230609
CREATED:20220223T191400Z
LAST-MODIFIED:20220223T191400Z
UID:10000396-1651080600-1651084200@nexconational.com
SUMMARY:National Chapter B2B Virtual Networking
DESCRIPTION:Join us at 5:30pm (Eastern\, 2:30pm Pacific) – come with a cocktail\, come with your tea! \n\n\nNetworking for all of National B2B Chapter Members & guests AND All of neXco!  If you can’t make it to an in person event near you\, come and visit with us\, we’d love to get to know you! \n\n\nRSVP to: nationalb2bleaders@nexconational.com \n\n 
URL:https://nexconational.com/event/national-chapter-b2b-virtual-networking/2022-04-27/
CATEGORIES:Chapter & Cross Chapter Socials
END:VEVENT
BEGIN:VEVENT
DTSTART;TZID=America/New_York:20220427T173000
DTEND;TZID=America/New_York:20220427T183000
DTSTAMP:20260419T230609
CREATED:20220223T191400Z
LAST-MODIFIED:20220223T191400Z
UID:10000405-1651080600-1651084200@nexconational.com
SUMMARY:National Chapter B2B Virtual Networking
DESCRIPTION:Join us at 5:30pm (Eastern\, 2:30pm Pacific) – come with a cocktail\, come with your tea! \n\n\nNetworking for all of National B2B Chapter Members & guests AND All of neXco!  If you can’t make it to an in person event near you\, come and visit with us\, we’d love to get to know you! \n\n\nRSVP to: nationalb2bleaders@nexconational.com \n\n 
URL:https://nexconational.com/event/national-chapter-b2b-virtual-networking-3/2022-04-27/
CATEGORIES:Chapter & Cross Chapter Socials
END:VEVENT
BEGIN:VEVENT
DTSTART;TZID=America/New_York:20220323T173000
DTEND;TZID=America/New_York:20220323T183000
DTSTAMP:20260419T230609
CREATED:20220223T191400Z
LAST-MODIFIED:20220223T191400Z
UID:10000400-1648056600-1648060200@nexconational.com
SUMMARY:National Chapter B2B Virtual Networking
DESCRIPTION:Join us at 5:30pm (Eastern\, 2:30pm Pacific) – come with a cocktail\, come with your tea! \n\n\nNetworking for all of National B2B Chapter Members & guests AND All of neXco!  If you can’t make it to an in person event near you\, come and visit with us\, we’d love to get to know you! \n\n\nRSVP to: nationalb2bleaders@nexconational.com \n\n 
URL:https://nexconational.com/event/national-chapter-b2b-virtual-networking-2/2022-03-23/
CATEGORIES:Chapter & Cross Chapter Socials
END:VEVENT
BEGIN:VEVENT
DTSTART;TZID=America/New_York:20220323T173000
DTEND;TZID=America/New_York:20220323T183000
DTSTAMP:20260419T230609
CREATED:20220223T191400Z
LAST-MODIFIED:20220223T191400Z
UID:10000395-1648056600-1648060200@nexconational.com
SUMMARY:National Chapter B2B Virtual Networking
DESCRIPTION:Join us at 5:30pm (Eastern\, 2:30pm Pacific) – come with a cocktail\, come with your tea! \n\n\nNetworking for all of National B2B Chapter Members & guests AND All of neXco!  If you can’t make it to an in person event near you\, come and visit with us\, we’d love to get to know you! \n\n\nRSVP to: nationalb2bleaders@nexconational.com \n\n 
URL:https://nexconational.com/event/national-chapter-b2b-virtual-networking/2022-03-23/
CATEGORIES:Chapter & Cross Chapter Socials
END:VEVENT
BEGIN:VEVENT
DTSTART;TZID=America/New_York:20220314T180000
DTEND;TZID=America/New_York:20220314T200000
DTSTAMP:20260419T230609
CREATED:20220220T212810Z
LAST-MODIFIED:20220220T212810Z
UID:10000393-1647280800-1647288000@nexconational.com
SUMMARY:Springfield Chapter B2B Happy Hour
DESCRIPTION:Please join us at the Capital Ale House in Fairfax 6:00pm-8:00pm. RSVP to Bob Braden at rbradenjr@shinemanagement.com \nCapital Ale House\n4069 Chain Bridge Rd\nFairfax\, 22030-4113
URL:https://nexconational.com/event/springfield-chapter-b2b-happy-hour-4/
CATEGORIES:Chapter & Cross Chapter Socials
END:VEVENT
BEGIN:VEVENT
DTSTART;TZID=America/New_York:20220310T163000
DTEND;TZID=America/New_York:20220310T190000
DTSTAMP:20260419T230609
CREATED:20220210T223125Z
LAST-MODIFIED:20220210T223125Z
UID:10000389-1646929800-1646938800@nexconational.com
SUMMARY:Reston B2B Happy Hour Event
DESCRIPTION:Come network and join the Reston B2B Team for a Happy Hour (4:30pm – 7:00pm) at Cooper’s Hawk Winery in Reston! Easy access to FFX Co Pkwy and the Dulles Toll Road. No RSVP necessary! \nCooper’s Hawk Winery\n1-to-130 Sunset Hills Rd\nReston\, VA 20190
URL:https://nexconational.com/event/reston-b2b-happy-hour-event/
CATEGORIES:Chapter & Cross Chapter Socials
ATTACH;FMTTYPE=image/jpeg:https://nexconational.com/wp-content/uploads/2022/02/Coopers-Hawk.jpg
END:VEVENT
BEGIN:VEVENT
DTSTART;TZID=America/New_York:20220223T173000
DTEND;TZID=America/New_York:20220223T183000
DTSTAMP:20260419T230609
CREATED:20220223T191400Z
LAST-MODIFIED:20220223T191400Z
UID:10000394-1645637400-1645641000@nexconational.com
SUMMARY:National Chapter B2B Virtual Networking
DESCRIPTION:Join us at 5:30pm (Eastern\, 2:30pm Pacific) – come with a cocktail\, come with your tea! \n\n\nNetworking for all of National B2B Chapter Members & guests AND All of neXco!  If you can’t make it to an in person event near you\, come and visit with us\, we’d love to get to know you! \n\n\nRSVP to: nationalb2bleaders@nexconational.com \n\n 
URL:https://nexconational.com/event/national-chapter-b2b-virtual-networking/2022-02-23/
CATEGORIES:Chapter & Cross Chapter Socials
END:VEVENT
BEGIN:VEVENT
DTSTART;TZID=America/New_York:20220207T180000
DTEND;TZID=America/New_York:20220207T200000
DTSTAMP:20260419T230609
CREATED:202201-to-1T191510Z
LAST-MODIFIED:202201-to-1T191510Z
UID:10000385-1644256800-1644264000@nexconational.com
SUMMARY:Springfield Chapter B2B Happy Hour
DESCRIPTION:Please join us at the Capital Ale House in Fairfax 6:00pm-8:00pm. RSVP to Bob Braden at rbradenjr@shinemanagement.com \nCapital Ale House\n4069 Chain Bridge Rd\nFairfax\, 22030-4113
URL:https://nexconational.com/event/springfield-chapter-b2b-happy-hour-3/
CATEGORIES:Chapter & Cross Chapter Socials
END:VEVENT
BEGIN:VEVENT
DTSTART;TZID=America/New_York:20220110T180000
DTEND;TZID=America/New_York:20220110T200000
DTSTAMP:20260419T230609
CREATED:20211209T012616Z
LAST-MODIFIED:20211209T012616Z
UID:10000380-1641837600-1641844800@nexconational.com
SUMMARY:CANCELLED - Springfield Chapter B2B Happy Hour
DESCRIPTION:THIS EVENT HAS BEEN CANCELLED FOR TONIGHT.\n 
URL:https://nexconational.com/event/springfield-chapter-b2b-happy-hour-2/
CATEGORIES:Chapter & Cross Chapter Socials
END:VEVENT
BEGIN:VEVENT
DTSTART;TZID=America/New_York:20211-to-16T180000
DTEND;TZID=America/New_York:20211-to-16T200000
DTSTAMP:20260419T230609
CREATED:20211022T183140Z
LAST-MODIFIED:20211022T183140Z
UID:10000371-1639677600-1639684800@nexconational.com
SUMMARY:Winchester Core Happy Hour
DESCRIPTION:All members and guests are welcome to join us for food\, drinks\, and networking. \n50/50 Taphouse\n29 W Cork Street\nWinchester\, VA 22601
URL:https://nexconational.com/event/winchester-core-happy-hour/
CATEGORIES:Chapter & Cross Chapter Socials
END:VEVENT
BEGIN:VEVENT
DTSTART;TZID=America/New_York:20211-to-13T183000
DTEND;TZID=America/New_York:20211-to-13T203000
DTSTAMP:20260419T230609
CREATED:20211119T221835Z
LAST-MODIFIED:20211119T221835Z
UID:10000377-1639420200-1639427400@nexconational.com
SUMMARY:Springfield Chapter B2B Happy Hour
DESCRIPTION:Auld Shebeen\, 3971 Chain Bridge Rd. Fairfax\, VA.\nWe will be meeting in The Library \nPlease email Bob Braden at rbradenjr@shinemanagement.com to RSVP! \nParking:\nFREE parking garage located at Old Town Plaza. \nSee map here – https://www.fairfaxva.gov/government/public-works/transportation-division/parking-information#OTParkin \n 
URL:https://nexconational.com/event/springfield-chapter-b2b-happy-hour/
CATEGORIES:Chapter & Cross Chapter Socials
END:VEVENT
BEGIN:VEVENT
DTSTART;TZID=America/New_York:20211109T120000
DTEND;TZID=America/New_York:20211109T140000
DTSTAMP:20260419T230609
CREATED:20211022T182929Z
LAST-MODIFIED:20211022T182929Z
UID:10000370-1636459200-1636466400@nexconational.com
SUMMARY:Winchester Core November Social
DESCRIPTION:Stop by during your lunch hour for some networking!\nWe will meet at:\nKing’s New York Pizza\n785 Middleway Pike\nInwood\, WV 25428
URL:https://nexconational.com/event/winchester-core-november-social/
CATEGORIES:Chapter & Cross Chapter Socials
END:VEVENT
BEGIN:VEVENT
DTSTART;TZID=America/New_York:20211108T183000
DTEND;TZID=America/New_York:20211108T203000
DTSTAMP:20260419T230609
CREATED:20211027T195621Z
LAST-MODIFIED:20211027T195621Z
UID:10000373-1636396200-1636403400@nexconational.com
SUMMARY:Springfield B2B Chapter Happy Hour
DESCRIPTION:Please join us for our Springfield B2B neXco National Chapter networking happy hour on November 8th from 6:30pm – 8:30pm at \nThe Yard House in Springfield: 6791 Springfield Mall\, Springfield\, VA 22150; (703) 924-7345 \nIf you can RSVP so we can make sure we reserve enough room for everyone that would be helpful. Please email Bob Braden @ rbradenjr@shinemanagement.com to RSVP! \nMonthly we will host an informal happy hour for all members who are interested to attend. These happy hours will be hosted on the second Monday of the month at rotating locations. No registration is required\, but as noted it is appreciated – just drop in!
URL:https://nexconational.com/event/springfield-b2b-chapter-happy-hour/
CATEGORIES:Chapter & Cross Chapter Socials
END:VEVENT
BEGIN:VEVENT
DTSTART;TZID=America/New_York:20211104T163000
DTEND;TZID=America/New_York:20211104T183000
DTSTAMP:20260419T230609
CREATED:20211022T183303Z
LAST-MODIFIED:20211022T183303Z
UID:10000372-1636043400-1636050600@nexconational.com
SUMMARY:Reston B2B Happy Hour - Cooper's Hawk Winery
DESCRIPTION:Come join us for some great networking with the Reston B2B Chapter! We look forward to seeing you at: \nCooper’s Hawk Winery and Restaurant\n1-to-130 Sunset Hills Rd.\nReston\, 20190
URL:https://nexconational.com/event/reston-b2b-happy-hour-coopers-hawk-winery/
CATEGORIES:Chapter & Cross Chapter Socials
END:VEVENT
BEGIN:VEVENT
DTSTART;TZID=America/New_York:20211102T170000
DTEND;TZID=America/New_York:20211102T190000
DTSTAMP:20260419T230609
CREATED:20211014T220445Z
LAST-MODIFIED:20211014T220445Z
UID:10000369-1635872400-1635879600@nexconational.com
SUMMARY:neXco Lady Leader Happy Hour
DESCRIPTION:Our next Lady Leader happy hour is scheduled for Tuesday\, November 2 from 5-7 PM at the Tower Club in Tysons.\n(8000 Tower Club Crescent Drive\, Suite 1700 Vienna\, VA 22182)  \nPlease join us and the Tower Club’s Women of Business members for engaging conversation\, networking\, and an evening out with smart business leaders.  No need to RSVP. \nPlease bring business cards.
URL:https://nexconational.com/event/nexco-lady-leader-happy-hour-3/
LOCATION:Join flow
CATEGORIES:Chapter & Cross Chapter Socials
END:VEVENT
END:VCALENDAR