BEGIN:VCALENDAR
VERSION:2.0
PRODID:-//neXco - ECPv6.15.20//NONSGML v1.0//EN
CALSCALE:GREGORIAN
METHOD:PUBLISH
X-ORIGINAL-URL:https://nexconational.com
X-WR-CALDESC:Events for neXco
REFRESH-INTERVAL;VALUE=DURATION:PT1H
X-Robots-Tag:noindex
X-PUBLISHED-TTL:PT1H
BEGIN:VTIMEZONE
TZID:America/New_York
BEGIN:DAYLIGHT
TZOFFSETFROM:-0500
TZOFFSETTO:-0400
TZNAME:EDT
DTSTART:20240310T070000
END:DAYLIGHT
BEGIN:STANDARD
TZOFFSETFROM:-0400
TZOFFSETTO:-0500
TZNAME:EST
DTSTART:20241103T060000
END:STANDARD
BEGIN:DAYLIGHT
TZOFFSETFROM:-0500
TZOFFSETTO:-0400
TZNAME:EDT
DTSTART:20250309T070000
END:DAYLIGHT
BEGIN:STANDARD
TZOFFSETFROM:-0400
TZOFFSETTO:-0500
TZNAME:EST
DTSTART:20251102T060000
END:STANDARD
BEGIN:DAYLIGHT
TZOFFSETFROM:-0500
TZOFFSETTO:-0400
TZNAME:EDT
DTSTART:20260308T070000
END:DAYLIGHT
BEGIN:STANDARD
TZOFFSETFROM:-0400
TZOFFSETTO:-0500
TZNAME:EST
DTSTART:20261101T060000
END:STANDARD
END:VTIMEZONE
BEGIN:VEVENT
DTSTART;TZID=America/New_York:20250709T083000
DTEND;TZID=America/New_York:20250709T100000
DTSTAMP:20260420T082240
CREATED:20250528T202641Z
LAST-MODIFIED:20250528T202650Z
UID:10001450-1752049800-1752055200@nexconational.com
SUMMARY:Fredericksburg Area\, VA neXco National B2B Chapter Launch Meeting
DESCRIPTION:Exciting News for B2B Professionals in the Fredericksburg Area! \nWe’re thrilled to introduce the launch of a brand-new neXco National B2B Chapter right here in the Fredericksburg\, VA area! \nAre you a business-to-business professional eager to expand your network\, form meaningful connections\, and join a thriving referral community? \nDon’t miss this opportunity to be part of something from the ground up. Join us at our chapter launch event to discover what it means to become a founding member of this dynamic new group! \n 
URL:https://nexconational.com/event/fredericksburg-area-va-nexco-national-b2b-chapter-launch-meeting/
LOCATION:Zoom
CATEGORIES:Virtual Community Events
ATTACH;FMTTYPE=image/png:https://nexconational.com/wp-content/uploads/2025/05/Upcoming-Chapter-Meetings-1.png
ORGANIZER;CN="neXco National":MAILTO:info@nexconational.com
END:VEVENT
BEGIN:VEVENT
DTSTART;TZID=America/New_York:20250716T120000
DTEND;TZID=America/New_York:20250716T130000
DTSTAMP:20260420T082240
CREATED:20250515T170339Z
LAST-MODIFIED:20250515T170339Z
UID:10001444-1752667200-1752670800@nexconational.com
SUMMARY:neXco Accounting\, Tax & CFO Outsource Roundtable
DESCRIPTION:At neXco\, we believe in the power of community-driven learning and collaboration. That’s why we’re thrilled to introduce the neXco Accounting\, Tax & CFO Outsource Roundtable—an opportunity for neXco members who are in the accounting\, tax\, and finance professions within our community and guests to come together and explore the latest topics impacting the industry. \n\n 
URL:https://nexconational.com/event/nexco-accounting-tax-cfo-outsource-roundtable-3/
LOCATION:Zoom
CATEGORIES:Roundtables,Virtual Community Events
ATTACH;FMTTYPE=image/png:https://nexconational.com/wp-content/uploads/2024/12/CFO-Tax-Accountants.png
ORGANIZER;CN="neXco National":MAILTO:info@nexconational.com
END:VEVENT
BEGIN:VEVENT
DTSTART;TZID=America/New_York:20250717T120000
DTEND;TZID=America/New_York:20250717T130000
DTSTAMP:20260420T082240
CREATED:20250515T165435Z
LAST-MODIFIED:20250703T161234Z
UID:10001432-1752753600-1752757200@nexconational.com
SUMMARY:neXco Business Owners Roundtable
DESCRIPTION:At neXco\, we believe in the power of community-driven learning and collaboration. That’s why we’re thrilled to introduce the neXco Business Owners Roundtable—an exclusive opportunity for business owners within our community and guests of the neXco community to come together and explore the latest topics impacting our industry. \nThis month’s topic is “How to Work with Your Bank Effectively” presented by Sam Patel. \nSave your spot!
URL:https://nexconational.com/event/nexco-business-owners-roundtable-11/
LOCATION:Zoom
CATEGORIES:Roundtables,Virtual Community Events
ATTACH;FMTTYPE=image/png:https://nexconational.com/wp-content/uploads/2024/10/Business-Owners.png
ORGANIZER;CN="neXco National":MAILTO:info@nexconational.com
END:VEVENT
BEGIN:VEVENT
DTSTART;TZID=America/New_York:20250721T153000
DTEND;TZID=America/New_York:20250721T163000
DTSTAMP:20260420T082240
CREATED:20250515T170059Z
LAST-MODIFIED:20250515T170059Z
UID:10001438-1753111800-1753115400@nexconational.com
SUMMARY:Increase your Networking Return on Investment Roundtable
DESCRIPTION:At neXco\, we believe in the power of community-driven learning and collaboration. That’s why we’re thrilled to introduce the neXco Increase your Networking Return on Investment Roundtable—an exclusive opportunity for all neXco members and guests to come together and explore the latest topics impacting our industry. \nSave your spot!
URL:https://nexconational.com/event/increase-your-networking-return-on-investment-roundtable-5/
LOCATION:Zoom
CATEGORIES:Roundtables,Virtual Community Events
ATTACH;FMTTYPE=image/png:https://nexconational.com/wp-content/uploads/2024/10/ROI-1.png
ORGANIZER;CN="neXco National":MAILTO:info@nexconational.com
END:VEVENT
BEGIN:VEVENT
DTSTART;TZID=America/New_York:20250724T160000
DTEND;TZID=America/New_York:20250724T170000
DTSTAMP:20260420T082240
CREATED:20250113T212336Z
LAST-MODIFIED:20250113T212403Z
UID:10001278-1753372800-1753376400@nexconational.com
SUMMARY:neXco National B2B Speed Networking with H7
DESCRIPTION:We’re excited to announce a one-of-a-kind event this month! Our friends at H7 will be joining us for our virtual neXco National speed networking.  \nThat means you’ll have the chance to expand your network beyond your immediate neXco community & leave with brand-new connections that can potentially become referral centers for your business.  \nYou will get the opportunity to meet 8+ other B2B business professionals around the country who can potentially become referral centers and partners for your business. \nThis event is OPEN to all neXco National Members and Non-Members. There is no charge to attend. \nRegister Here!
URL:https://nexconational.com/event/nexco-national-b2b-speed-networking-with-h7/
LOCATION:Zoom
CATEGORIES:B2B Speed Networking,Virtual Community Events
ATTACH;FMTTYPE=image/png:https://nexconational.com/wp-content/uploads/2025/01/B2B-Speed-Networking-2.png
ORGANIZER;CN="neXco National":MAILTO:info@nexconational.com
END:VEVENT
END:VCALENDAR