BEGIN:VCALENDAR
VERSION:2.0
PRODID:-//neXco - ECPv6.15.20//NONSGML v1.0//EN
CALSCALE:GREGORIAN
METHOD:PUBLISH
X-WR-CALNAME:neXco
X-ORIGINAL-URL:https://nexconational.com
X-WR-CALDESC:Events for neXco
REFRESH-INTERVAL;VALUE=DURATION:PT1H
X-Robots-Tag:noindex
X-PUBLISHED-TTL:PT1H
BEGIN:VTIMEZONE
TZID:America/New_York
BEGIN:DAYLIGHT
TZOFFSETFROM:-0500
TZOFFSETTO:-0400
TZNAME:EDT
DTSTART:20250309T070000
END:DAYLIGHT
BEGIN:STANDARD
TZOFFSETFROM:-0400
TZOFFSETTO:-0500
TZNAME:EST
DTSTART:20251102T060000
END:STANDARD
BEGIN:DAYLIGHT
TZOFFSETFROM:-0500
TZOFFSETTO:-0400
TZNAME:EDT
DTSTART:20260308T070000
END:DAYLIGHT
BEGIN:STANDARD
TZOFFSETFROM:-0400
TZOFFSETTO:-0500
TZNAME:EST
DTSTART:20261101T060000
END:STANDARD
BEGIN:DAYLIGHT
TZOFFSETFROM:-0500
TZOFFSETTO:-0400
TZNAME:EDT
DTSTART:20270314T070000
END:DAYLIGHT
BEGIN:STANDARD
TZOFFSETFROM:-0400
TZOFFSETTO:-0500
TZNAME:EST
DTSTART:20271107T060000
END:STANDARD
END:VTIMEZONE
BEGIN:VEVENT
DTSTART;TZID=America/New_York:20260701T130000
DTEND;TZID=America/New_York:20260701T135500
DTSTAMP:20260420T155749
CREATED:20260407T165305Z
LAST-MODIFIED:20260407T165305Z
UID:10001847-1782910800-1782914100@nexconational.com
SUMMARY:neXco Coast to Coast 55-Minute Meeting
DESCRIPTION:If you’re a B2B professional on the West Coast or East Coast\, or anywhere in between\, looking for meaningful relationships—not transactional networking—join us for the neXco Coast to Coast 55-Minute Meeting. \nThis is a focused\, high-energy session held once a month on the 1st Wednesday from 1:00 pm – 1:55 pm (ET). \nDesigned to help you:\n• Build trusted professional relationships\n• Exchange quality referrals\n• Connect with business owners who serve SMBs \n55 minutes of quality conversation and connections. \nRSVP
URL:https://nexconational.com/event/nexco-coast-to-coast-55-minute-meeting/2026-07-01/
CATEGORIES:Virtual Community Events
ATTACH;FMTTYPE=image/png:https://nexconational.com/wp-content/uploads/2026/04/Upcoming-Chapter-Meetings.png
END:VEVENT
BEGIN:VEVENT
DTSTART;TZID=America/New_York:20260714T120000
DTEND;TZID=America/New_York:20260714T125500
DTSTAMP:20260420T155749
CREATED:20260223T203152Z
LAST-MODIFIED:20260223T203152Z
UID:10001834-1784030400-1784033700@nexconational.com
SUMMARY:neXco DMV 55-Minute Regional Meeting
DESCRIPTION:If you’re a B2B professional in DC\, MD\, or VA looking for meaningful relationships—not transactional networking—join us for the neXco DMV Regional 55-Minute Meeting. \nThis is a focused\, high-energy session held once a month on the 2nd Tuesday from 12:00 pm – 12:55 pm (ET). \nDesigned to help you:\n• Build trusted professional relationships\n• Exchange quality referrals\n• Connect with business owners who serve SMBs \n55 minutes of quality conversation and connections. \nRSVP
URL:https://nexconational.com/event/nexco-dmv-55-minute-regional-meeting-4/
CATEGORIES:Virtual Community Events
ATTACH;FMTTYPE=image/png:https://nexconational.com/wp-content/uploads/2026/02/Upcoming-Chapter-Meetings.png
END:VEVENT
BEGIN:VEVENT
DTSTART;TZID=America/New_York:20260716T120000
DTEND;TZID=America/New_York:20260716T133000
DTSTAMP:20260420T155749
CREATED:20251-to-17T192808Z
LAST-MODIFIED:20251-to-17T192808Z
UID:10001624-1784203200-1784208600@nexconational.com
SUMMARY:neXco Business Owners Roundtable
DESCRIPTION:At neXco\, we believe in the power of community-driven learning and collaboration. That’s why we’re thrilled to introduce the neXco Business Owners Roundtable—an exclusive opportunity for business owners within our community and guests of the neXco community to come together and explore the latest topics impacting our industry. \nSave your spot!
URL:https://nexconational.com/event/nexco-business-owners-roundtable-22/
LOCATION:Zoom
CATEGORIES:Roundtables,Virtual Community Events
ATTACH;FMTTYPE=image/png:https://nexconational.com/wp-content/uploads/2024/10/Business-Owners.png
ORGANIZER;CN="neXco National":MAILTO:info@nexconational.com
END:VEVENT
BEGIN:VEVENT
DTSTART;TZID=America/New_York:20260716T140000
DTEND;TZID=America/New_York:20260716T145500
DTSTAMP:20260420T155749
CREATED:20260417T200052Z
LAST-MODIFIED:20260417T200052Z
UID:10001855-1784210400-1784213700@nexconational.com
SUMMARY:neXco 55 - Colorado
DESCRIPTION:If you’re a B2B professional in Colorado looking for meaningful relationships—not transactional networking—join us for the neXco 55 – Colorado Meeting. \nThis is a focused\, high-energy session held once a month on the 3rd Thursday from 12:00 pm – 12:55 pm (MT) / 2:00 pm – 2:55 pm (ET) \nDesigned to help you:• Build trusted professional relationships• Exchange quality referrals• Connect with business owners who serve SMBs \n55 minutes of quality conversation and connections. \nRSVP
URL:https://nexconational.com/event/nexco-55-colorado-3/
CATEGORIES:Virtual Community Events
ATTACH;FMTTYPE=image/png:https://nexconational.com/wp-content/uploads/2026/04/Upcoming-Chapter-Meetings-1.png
END:VEVENT
BEGIN:VEVENT
DTSTART;TZID=America/New_York:20260720T153000
DTEND;TZID=America/New_York:20260720T163000
DTSTAMP:20260420T155749
CREATED:20251-to-17T191852Z
LAST-MODIFIED:20251-to-17T191852Z
UID:10001613-1784561400-1784565000@nexconational.com
SUMMARY:Increase your Networking Return on Investment Roundtable
DESCRIPTION:At neXco\, we believe in the power of community-driven learning and collaboration. That’s why we’re thrilled to introduce the neXco Increase your Networking Return on Investment Roundtable—an exclusive opportunity for all neXco members and guests to come together and explore the latest topics impacting our industry. \nSave your spot!
URL:https://nexconational.com/event/increase-your-networking-return-on-investment-roundtable-16/
LOCATION:Zoom
CATEGORIES:Roundtables,Virtual Community Events
ATTACH;FMTTYPE=image/png:https://nexconational.com/wp-content/uploads/2024/10/ROI-1.png
ORGANIZER;CN="neXco National":MAILTO:info@nexconational.com
END:VEVENT
BEGIN:VEVENT
DTSTART;TZID=America/New_York:20260721T120000
DTEND;TZID=America/New_York:20260721T130000
DTSTAMP:20260420T155749
CREATED:20251-to-17T193305Z
LAST-MODIFIED:20251-to-17T193305Z
UID:10001635-1784635200-1784638800@nexconational.com
SUMMARY:neXco Marketing Professionals Roundtable
DESCRIPTION:At neXco\, we believe in the power of community-driven learning and collaboration. That’s why we’re thrilled to introduce the neXco Marketing Professionals Roundtable—an exclusive opportunity for neXco members who are marketers within our community and guests to come together and explore the latest topics impacting the industry. \n \n*You must be a marketing professional with 2+ years experience in a marketing profession to attend this event.
URL:https://nexconational.com/event/nexco-marketing-professionals-roundtable-14/
LOCATION:Zoom
CATEGORIES:Roundtables,Virtual Community Events
ATTACH;FMTTYPE=image/png:https://nexconational.com/wp-content/uploads/2024/09/Marketing.png
ORGANIZER;CN="neXco National":MAILTO:info@nexconational.com
END:VEVENT
BEGIN:VEVENT
DTSTART;TZID=America/New_York:20260722T120000
DTEND;TZID=America/New_York:20260722T130000
DTSTAMP:20260420T155749
CREATED:20251-to-17T191130Z
LAST-MODIFIED:20251-to-17T191140Z
UID:10001602-1784721600-1784725200@nexconational.com
SUMMARY:neXco Accounting\, Tax & CFO Outsource Roundtable
DESCRIPTION:At neXco\, we believe in the power of community-driven learning and collaboration. That’s why we’re thrilled to introduce the neXco Accounting\, Tax & CFO Outsource Roundtable—an opportunity for neXco members who are in the accounting\, tax\, and finance professions within our community and guests to come together and explore the latest topics impacting the industry. \n 
URL:https://nexconational.com/event/nexco-accounting-tax-cfo-outsource-roundtable-16/
LOCATION:Zoom
CATEGORIES:Roundtables,Virtual Community Events
ATTACH;FMTTYPE=image/png:https://nexconational.com/wp-content/uploads/2025/12/CFO-Tax-Accountants.png
ORGANIZER;CN="neXco National":MAILTO:info@nexconational.com
END:VEVENT
BEGIN:VEVENT
DTSTART;TZID=America/New_York:20260723T130000
DTEND;TZID=America/New_York:20260723T140000
DTSTAMP:20260420T155749
CREATED:20251-to-17T193605Z
LAST-MODIFIED:20251-to-17T193605Z
UID:10001646-1784811600-1784815200@nexconational.com
SUMMARY:neXco People & Culture/ HR Roundtable
DESCRIPTION:Are you an HR professional looking to connect\, share insights\, and learn from your peers? \nJoin us for a thought-provoking discussion with fellow People & Culture leaders. This is your opportunity to exchange ideas\, tackle challenges\, and strengthen your professional network. \nWho Would Benefit: Employment attorneys\, HR consultants\, recruiters\, staffing\, payroll\, benefits & 401(k) providers\, PEO providers\, and HRIS providers. \nSave your spot!
URL:https://nexconational.com/event/nexco-people-culture-hr-roundtable-9/
LOCATION:Zoom
CATEGORIES:Roundtables,Virtual Community Events
ATTACH;FMTTYPE=image/png:https://nexconational.com/wp-content/uploads/2025/09/HR-Roundtable.png
ORGANIZER;CN="neXco National":MAILTO:info@nexconational.com
END:VEVENT
BEGIN:VEVENT
DTSTART;TZID=America/New_York:20260723T160000
DTEND;TZID=America/New_York:20260723T170000
DTSTAMP:20260420T155749
CREATED:20251120T132044Z
LAST-MODIFIED:20251120T132044Z
UID:10001590-1784822400-1784826000@nexconational.com
SUMMARY:neXco National B2B Speed Networking with H7
DESCRIPTION:We’re excited to announce a one-of-a-kind event this month! Our friends at H7 will be joining us for our virtual neXco National speed networking.  \nThat means you’ll have the chance to expand your network beyond your immediate neXco community & leave with brand-new connections that can potentially become referral centers for your business.  \nYou will get the opportunity to meet 8+ other B2B business professionals around the country who can potentially become referral centers and partners for your business. \nThis event is OPEN to all neXco National Members and Non-Members. There is no charge to attend. \nRegister Here!
URL:https://nexconational.com/event/nexco-national-b2b-speed-networking-with-h7-5/
LOCATION:Zoom
CATEGORIES:B2B Speed Networking,Virtual Community Events
ATTACH;FMTTYPE=image/png:https://nexconational.com/wp-content/uploads/2025/11/B2B-Speed-Networking-2.png
ORGANIZER;CN="neXco National":MAILTO:info@nexconational.com
END:VEVENT
END:VCALENDAR