BEGIN:VCALENDAR
VERSION:2.0
PRODID:-//neXco - ECPv6.15.20//NONSGML v1.0//EN
CALSCALE:GREGORIAN
METHOD:PUBLISH
X-ORIGINAL-URL:https://nexconational.com
X-WR-CALDESC:Events for neXco
REFRESH-INTERVAL;VALUE=DURATION:PT1H
X-Robots-Tag:noindex
X-PUBLISHED-TTL:PT1H
BEGIN:VTIMEZONE
TZID:America/New_York
BEGIN:DAYLIGHT
TZOFFSETFROM:-0500
TZOFFSETTO:-0400
TZNAME:EDT
DTSTART:20240310T070000
END:DAYLIGHT
BEGIN:STANDARD
TZOFFSETFROM:-0400
TZOFFSETTO:-0500
TZNAME:EST
DTSTART:20241103T060000
END:STANDARD
BEGIN:DAYLIGHT
TZOFFSETFROM:-0500
TZOFFSETTO:-0400
TZNAME:EDT
DTSTART:20250309T070000
END:DAYLIGHT
BEGIN:STANDARD
TZOFFSETFROM:-0400
TZOFFSETTO:-0500
TZNAME:EST
DTSTART:20251102T060000
END:STANDARD
BEGIN:DAYLIGHT
TZOFFSETFROM:-0500
TZOFFSETTO:-0400
TZNAME:EDT
DTSTART:20260308T070000
END:DAYLIGHT
BEGIN:STANDARD
TZOFFSETFROM:-0400
TZOFFSETTO:-0500
TZNAME:EST
DTSTART:20261101T060000
END:STANDARD
END:VTIMEZONE
BEGIN:VEVENT
DTSTART;TZID=America/New_York:20250306T120000
DTEND;TZID=America/New_York:20250306T130000
DTSTAMP:20260425T082757
CREATED:20250203T160551Z
LAST-MODIFIED:20250203T160551Z
UID:10001342-1741262400-1741266000@nexconational.com
SUMMARY:neXco Workshop: How to Create\, Practice\, and Deliver Outstanding Business Presentations
DESCRIPTION:By participating in this workshop\, you will:\n\nGain insights into delivering excellent in-person and virtual presentations.\nMaster techniques to overcome the fear of public speaking.\nDevelop the skills to craft\, practice\, and deliver engaging business presentations.\nExplore innovative methods for handling audience questions with confidence and ease.
URL:https://nexconational.com/event/nexco-workshop-how-to-create-practice-and-deliver-outstanding-business-presentations/
LOCATION:Zoom
CATEGORIES:Virtual Community Events
ATTACH;FMTTYPE=image/png:https://nexconational.com/wp-content/uploads/2025/02/Workshops.png
ORGANIZER;CN="neXco National":MAILTO:info@nexconational.com
END:VEVENT
END:VCALENDAR