BEGIN:VCALENDAR
VERSION:2.0
PRODID:-//neXco - ECPv6.15.20//NONSGML v1.0//EN
CALSCALE:GREGORIAN
METHOD:PUBLISH
X-WR-CALNAME:neXco
X-ORIGINAL-URL:https://nexconational.com
X-WR-CALDESC:Events for neXco
REFRESH-INTERVAL;VALUE=DURATION:PT1H
X-Robots-Tag:noindex
X-PUBLISHED-TTL:PT1H
BEGIN:VTIMEZONE
TZID:America/New_York
BEGIN:DAYLIGHT
TZOFFSETFROM:-0500
TZOFFSETTO:-0400
TZNAME:EDT
DTSTART:20230312T070000
END:DAYLIGHT
BEGIN:STANDARD
TZOFFSETFROM:-0400
TZOFFSETTO:-0500
TZNAME:EST
DTSTART:20231105T060000
END:STANDARD
BEGIN:DAYLIGHT
TZOFFSETFROM:-0500
TZOFFSETTO:-0400
TZNAME:EDT
DTSTART:20240310T070000
END:DAYLIGHT
BEGIN:STANDARD
TZOFFSETFROM:-0400
TZOFFSETTO:-0500
TZNAME:EST
DTSTART:20241103T060000
END:STANDARD
BEGIN:DAYLIGHT
TZOFFSETFROM:-0500
TZOFFSETTO:-0400
TZNAME:EDT
DTSTART:20250309T070000
END:DAYLIGHT
BEGIN:STANDARD
TZOFFSETFROM:-0400
TZOFFSETTO:-0500
TZNAME:EST
DTSTART:20251102T060000
END:STANDARD
END:VTIMEZONE
BEGIN:VEVENT
DTSTART;TZID=America/New_York:20240503T120000
DTEND;TZID=America/New_York:20240503T131500
DTSTAMP:20260419T081309
CREATED:20240319T212319Z
LAST-MODIFIED:20240401T180311Z
UID:10000938-1714737600-1714742100@nexconational.com
SUMMARY:neXco Book Club Roundtable
DESCRIPTION:Join us for a journey into the dynamics of teamwork and leadership as we kick off our Book Club Roundtable series! Led by Bill Hickey\, this roundtable discussion will center around Patrick Lencioni’s insightful book\, “The 5 Dysfunctions of a Team.” \nIn this interactive session\, participants will have the opportunity to delve deep into the book’s core principles\, exploring how dysfunction manifests within teams and strategies for overcoming these challenges. Through lively discussion and shared experiences\, we aim to uncover practical insights that can be applied to enhance team effectiveness and collaboration in any setting. \nThis event is exclusively open to members\, offering a unique forum for learning and networking within our community. Prior to the event\, participants are required to acquire a copy of the selected book or audiobook to fully engage with the material.
URL:https://nexconational.com/event/nexco-book-club-roundtable/
LOCATION:Zoom
CATEGORIES:Roundtables,Virtual Community Events
ATTACH;FMTTYPE=image/png:https://nexconational.com/wp-content/uploads/2024/03/Roundtable-Discussions-2-1.png
ORGANIZER;CN="neXco National":MAILTO:info@nexconational.com
END:VEVENT
END:VCALENDAR