BEGIN:VCALENDAR
VERSION:2.0
PRODID:-//neXco - ECPv6.15.20//NONSGML v1.0//EN
CALSCALE:GREGORIAN
METHOD:PUBLISH
X-ORIGINAL-URL:https://nexconational.com
X-WR-CALDESC:Events for neXco
REFRESH-INTERVAL;VALUE=DURATION:PT1H
X-Robots-Tag:noindex
X-PUBLISHED-TTL:PT1H
BEGIN:VTIMEZONE
TZID:America/New_York
BEGIN:DAYLIGHT
TZOFFSETFROM:-0500
TZOFFSETTO:-0400
TZNAME:EDT
DTSTART:20210314T070000
END:DAYLIGHT
BEGIN:STANDARD
TZOFFSETFROM:-0400
TZOFFSETTO:-0500
TZNAME:EST
DTSTART:20211107T060000
END:STANDARD
BEGIN:DAYLIGHT
TZOFFSETFROM:-0500
TZOFFSETTO:-0400
TZNAME:EDT
DTSTART:20220313T070000
END:DAYLIGHT
BEGIN:STANDARD
TZOFFSETFROM:-0400
TZOFFSETTO:-0500
TZNAME:EST
DTSTART:20221106T060000
END:STANDARD
BEGIN:DAYLIGHT
TZOFFSETFROM:-0500
TZOFFSETTO:-0400
TZNAME:EDT
DTSTART:20230312T070000
END:DAYLIGHT
BEGIN:STANDARD
TZOFFSETFROM:-0400
TZOFFSETTO:-0500
TZNAME:EST
DTSTART:20231105T060000
END:STANDARD
END:VTIMEZONE
BEGIN:VEVENT
DTSTART;TZID=America/New_York:20220914T160000
DTEND;TZID=America/New_York:20220914T183000
DTSTAMP:20260423T052710
CREATED:20220802T204930Z
LAST-MODIFIED:20220802T204930Z
UID:10000458-1663171200-1663180200@nexconational.com
SUMMARY:GovCon IV Chapter In Person Networking
DESCRIPTION:Come join the members of GovCon IV for our first ever group event! \nAll are welcome\, and bring a friend (or two)! The event will be held at the Bayou Bourbon Kitchen in Ashburn\, VA. \nPlease RSVP to Gary Ryan at gryan@chessconsultingllc.com \nBayou Bourbon Kitchen\n44184 Ashbrook Marketplace Plaza\nAshburn\, VA 20147
URL:https://nexconational.com/event/govcon-iv-chapter-in-person-networking/
CATEGORIES:Chapter & Cross Chapter Socials
END:VEVENT
END:VCALENDAR