BEGIN:VCALENDAR
VERSION:2.0
PRODID:-//neXco - ECPv6.15.20//NONSGML v1.0//EN
CALSCALE:GREGORIAN
METHOD:PUBLISH
X-ORIGINAL-URL:https://nexconational.com
X-WR-CALDESC:Events for neXco
REFRESH-INTERVAL;VALUE=DURATION:PT1H
X-Robots-Tag:noindex
X-PUBLISHED-TTL:PT1H
BEGIN:VTIMEZONE
TZID:America/New_York
BEGIN:DAYLIGHT
TZOFFSETFROM:-0500
TZOFFSETTO:-0400
TZNAME:EDT
DTSTART:20210314T070000
END:DAYLIGHT
BEGIN:STANDARD
TZOFFSETFROM:-0400
TZOFFSETTO:-0500
TZNAME:EST
DTSTART:20211107T060000
END:STANDARD
BEGIN:DAYLIGHT
TZOFFSETFROM:-0500
TZOFFSETTO:-0400
TZNAME:EDT
DTSTART:20220313T070000
END:DAYLIGHT
BEGIN:STANDARD
TZOFFSETFROM:-0400
TZOFFSETTO:-0500
TZNAME:EST
DTSTART:20221106T060000
END:STANDARD
BEGIN:DAYLIGHT
TZOFFSETFROM:-0500
TZOFFSETTO:-0400
TZNAME:EDT
DTSTART:20230312T070000
END:DAYLIGHT
BEGIN:STANDARD
TZOFFSETFROM:-0400
TZOFFSETTO:-0500
TZNAME:EST
DTSTART:20231105T060000
END:STANDARD
END:VTIMEZONE
BEGIN:VEVENT
DTSTART;TZID=America/New_York:20221116T160000
DTEND;TZID=America/New_York:20221116T200000
DTSTAMP:20260423T034950
CREATED:20221031T171634Z
LAST-MODIFIED:20221031T171634Z
UID:10000480-1668614400-1668628800@nexconational.com
SUMMARY:GovCon IV November in-person Networking at the Lost Rhino Brewery
DESCRIPTION:November 16 @ 4:00 pm – 8:00++ pm EST \nJoin the neXco GovCon IV team for its November in person networking at Lost Rhino Brewery in Ashburn\, VA on Wednesday\, November 16th from 4pm – 8pm. Please register through our Eventbrite link below. We look forward to seeing you! \nAny questions contact Gary Ryan gryan@chessconsultingllc.com \nSome light apps and drink tokens will be provided. Additional food and drink is available for purchase. \nhttps://www.eventbrite.com/e/nexco-networking-happy-hour-tickets-446277557187?aff=erelexpmlt \n 
URL:https://nexconational.com/event/govcon-iv-november-in-person-networking-lost-rhino-brewery/
CATEGORIES:Chapter & Cross Chapter Socials
ATTACH;FMTTYPE=image/png:https://nexconational.com/wp-content/uploads/2022/10/networking2.png
END:VEVENT
END:VCALENDAR