BEGIN:VCALENDAR
VERSION:2.0
PRODID:-//neXco - ECPv6.15.20//NONSGML v1.0//EN
CALSCALE:GREGORIAN
METHOD:PUBLISH
X-WR-CALNAME:neXco
X-ORIGINAL-URL:https://nexconational.com
X-WR-CALDESC:Events for neXco
REFRESH-INTERVAL;VALUE=DURATION:PT1H
X-Robots-Tag:noindex
X-PUBLISHED-TTL:PT1H
BEGIN:VTIMEZONE
TZID:America/New_York
BEGIN:DAYLIGHT
TZOFFSETFROM:-0500
TZOFFSETTO:-0400
TZNAME:EDT
DTSTART:20220313T070000
END:DAYLIGHT
BEGIN:STANDARD
TZOFFSETFROM:-0400
TZOFFSETTO:-0500
TZNAME:EST
DTSTART:20221106T060000
END:STANDARD
BEGIN:DAYLIGHT
TZOFFSETFROM:-0500
TZOFFSETTO:-0400
TZNAME:EDT
DTSTART:20230312T070000
END:DAYLIGHT
BEGIN:STANDARD
TZOFFSETFROM:-0400
TZOFFSETTO:-0500
TZNAME:EST
DTSTART:20231105T060000
END:STANDARD
BEGIN:DAYLIGHT
TZOFFSETFROM:-0500
TZOFFSETTO:-0400
TZNAME:EDT
DTSTART:20240310T070000
END:DAYLIGHT
BEGIN:STANDARD
TZOFFSETFROM:-0400
TZOFFSETTO:-0500
TZNAME:EST
DTSTART:20241103T060000
END:STANDARD
END:VTIMEZONE
BEGIN:VEVENT
DTSTART;TZID=America/New_York:20230531T160000
DTEND;TZID=America/New_York:20230531T170000
DTSTAMP:20260421T175848
CREATED:20230512T130936Z
LAST-MODIFIED:20230512T130936Z
UID:10000743-1685548800-1685552400@nexconational.com
SUMMARY:neXco National San Francisco Bay Area\, CA B2B Chapter Information Session
DESCRIPTION:neXco National is excited to launch our next B2B Chapter in the San Francisco Bay Area\, California!  neXco National B2B chapters are comprised exclusively of Business-to-Business networkers. Members of neXco National B2B groups must market 100% exclusively to businesses.  We are looking for both leaders and founding members to start this chapter. RSVP to learn more about this new chapter. \nRSVP here
URL:https://nexconational.com/event/nexco-national-san-francisco-bay-area-ca-b2b-chapter-information-session-2/
CATEGORIES:Information Sessions
ATTACH;FMTTYPE=image/png:https://nexconational.com/wp-content/uploads/2023/05/San-Fran-California-Info-Session-2.png
END:VEVENT
END:VCALENDAR