BEGIN:VCALENDAR
VERSION:2.0
PRODID:-//neXco - ECPv6.15.20//NONSGML v1.0//EN
CALSCALE:GREGORIAN
METHOD:PUBLISH
X-ORIGINAL-URL:https://nexconational.com
X-WR-CALDESC:Events for neXco
REFRESH-INTERVAL;VALUE=DURATION:PT1H
X-Robots-Tag:noindex
X-PUBLISHED-TTL:PT1H
BEGIN:VTIMEZONE
TZID:America/New_York
BEGIN:DAYLIGHT
TZOFFSETFROM:-0500
TZOFFSETTO:-0400
TZNAME:EDT
DTSTART:20210314T070000
END:DAYLIGHT
BEGIN:STANDARD
TZOFFSETFROM:-0400
TZOFFSETTO:-0500
TZNAME:EST
DTSTART:20211107T060000
END:STANDARD
BEGIN:DAYLIGHT
TZOFFSETFROM:-0500
TZOFFSETTO:-0400
TZNAME:EDT
DTSTART:20220313T070000
END:DAYLIGHT
BEGIN:STANDARD
TZOFFSETFROM:-0400
TZOFFSETTO:-0500
TZNAME:EST
DTSTART:20221106T060000
END:STANDARD
BEGIN:DAYLIGHT
TZOFFSETFROM:-0500
TZOFFSETTO:-0400
TZNAME:EDT
DTSTART:20230312T070000
END:DAYLIGHT
BEGIN:STANDARD
TZOFFSETFROM:-0400
TZOFFSETTO:-0500
TZNAME:EST
DTSTART:20231105T060000
END:STANDARD
END:VTIMEZONE
BEGIN:VEVENT
DTSTART;TZID=America/New_York:20220210T113000
DTEND;TZID=America/New_York:20220210T123000
DTSTAMP:20260423T113709
CREATED:20220120T235517Z
LAST-MODIFIED:20220120T235517Z
UID:10000384-1644492600-1644496200@nexconational.com
SUMMARY:Non-Profit and Associations Service Provider Chapter Information Session
DESCRIPTION:neXco National is launching our first chapter focused on service providers selling into non-profits and associations.\nAt neXco we understand how important it is to develop a targeted approach to reaching the decision maker in any organization. Surrounding yourself with like-minded individuals who are networked and focused on the same market as you is critical in helping you grow your business. If at least 50% of your business comes from non-profits\, and/ or associations\, then you will want to join us for this information session to learn details about our newest chapter. We are looking for both leaders and founding members. \nRSVP here! \n\nhttps://nonprofitsinfosession.eventbrite.com\n  \n 
URL:https://nexconational.com/event/non-profit-and-associations-service-provider-chapter-information-session/
LOCATION:VA
CATEGORIES:Virtual Community Events
END:VEVENT
END:VCALENDAR