BEGIN:VCALENDAR
VERSION:2.0
PRODID:-//neXco - ECPv6.15.20//NONSGML v1.0//EN
CALSCALE:GREGORIAN
METHOD:PUBLISH
X-ORIGINAL-URL:https://nexconational.com
X-WR-CALDESC:Events for neXco
REFRESH-INTERVAL;VALUE=DURATION:PT1H
X-Robots-Tag:noindex
X-PUBLISHED-TTL:PT1H
BEGIN:VTIMEZONE
TZID:America/New_York
BEGIN:DAYLIGHT
TZOFFSETFROM:-0500
TZOFFSETTO:-0400
TZNAME:EDT
DTSTART:20210314T070000
END:DAYLIGHT
BEGIN:STANDARD
TZOFFSETFROM:-0400
TZOFFSETTO:-0500
TZNAME:EST
DTSTART:20211107T060000
END:STANDARD
BEGIN:DAYLIGHT
TZOFFSETFROM:-0500
TZOFFSETTO:-0400
TZNAME:EDT
DTSTART:20220313T070000
END:DAYLIGHT
BEGIN:STANDARD
TZOFFSETFROM:-0400
TZOFFSETTO:-0500
TZNAME:EST
DTSTART:20221106T060000
END:STANDARD
BEGIN:DAYLIGHT
TZOFFSETFROM:-0500
TZOFFSETTO:-0400
TZNAME:EDT
DTSTART:20230312T070000
END:DAYLIGHT
BEGIN:STANDARD
TZOFFSETFROM:-0400
TZOFFSETTO:-0500
TZNAME:EST
DTSTART:20231105T060000
END:STANDARD
END:VTIMEZONE
BEGIN:VEVENT
DTSTART;TZID=America/New_York:20220629T160000
DTEND;TZID=America/New_York:20220629T180000
DTSTAMP:20260422T175701
CREATED:20220519T202748Z
LAST-MODIFIED:20220519T202748Z
UID:10000451-1656518400-1656525600@nexconational.com
SUMMARY:Nonprofit/Association Service Provider Chapter Social Networking
DESCRIPTION:All are invited to join members of the Nonprofit & Association Service Provider Chapter for some social networking- wine and wisdom – on June 29 at Windridge Vineyards in beautiful Darnestown Maryland!\nPlease RSVP to NonProfitB2BLeaders@nexconational.com \n  \nWindridge Vineyards\n15700 Darnestown Road\nDarnestown\, MD 20874
URL:https://nexconational.com/event/nonprofit-association-service-provider-chapter-social-networking/
LOCATION:VA
CATEGORIES:Chapter & Cross Chapter Socials
ATTACH;FMTTYPE=image/jpeg:https://nexconational.com/wp-content/uploads/2022/05/windridge-vineyards-wine-tasting-patio.jpeg
END:VEVENT
END:VCALENDAR