BEGIN:VCALENDAR
VERSION:2.0
PRODID:-//neXco - ECPv6.15.20//NONSGML v1.0//EN
CALSCALE:GREGORIAN
METHOD:PUBLISH
X-ORIGINAL-URL:https://nexconational.com
X-WR-CALDESC:Events for neXco
REFRESH-INTERVAL;VALUE=DURATION:PT1H
X-Robots-Tag:noindex
X-PUBLISHED-TTL:PT1H
BEGIN:VTIMEZONE
TZID:America/New_York
BEGIN:DAYLIGHT
TZOFFSETFROM:-0500
TZOFFSETTO:-0400
TZNAME:EDT
DTSTART:20220313T070000
END:DAYLIGHT
BEGIN:STANDARD
TZOFFSETFROM:-0400
TZOFFSETTO:-0500
TZNAME:EST
DTSTART:20221106T060000
END:STANDARD
BEGIN:DAYLIGHT
TZOFFSETFROM:-0500
TZOFFSETTO:-0400
TZNAME:EDT
DTSTART:20230312T070000
END:DAYLIGHT
BEGIN:STANDARD
TZOFFSETFROM:-0400
TZOFFSETTO:-0500
TZNAME:EST
DTSTART:20231105T060000
END:STANDARD
BEGIN:DAYLIGHT
TZOFFSETFROM:-0500
TZOFFSETTO:-0400
TZNAME:EDT
DTSTART:20240310T070000
END:DAYLIGHT
BEGIN:STANDARD
TZOFFSETFROM:-0400
TZOFFSETTO:-0500
TZNAME:EST
DTSTART:20241103T060000
END:STANDARD
END:VTIMEZONE
BEGIN:VTIMEZONE
TZID:America/Chicago
BEGIN:DAYLIGHT
TZOFFSETFROM:-0600
TZOFFSETTO:-0500
TZNAME:CDT
DTSTART:20220313T080000
END:DAYLIGHT
BEGIN:STANDARD
TZOFFSETFROM:-0500
TZOFFSETTO:-0600
TZNAME:CST
DTSTART:20221106T070000
END:STANDARD
BEGIN:DAYLIGHT
TZOFFSETFROM:-0600
TZOFFSETTO:-0500
TZNAME:CDT
DTSTART:20230312T080000
END:DAYLIGHT
BEGIN:STANDARD
TZOFFSETFROM:-0500
TZOFFSETTO:-0600
TZNAME:CST
DTSTART:20231105T070000
END:STANDARD
BEGIN:DAYLIGHT
TZOFFSETFROM:-0600
TZOFFSETTO:-0500
TZNAME:CDT
DTSTART:20240310T080000
END:DAYLIGHT
BEGIN:STANDARD
TZOFFSETFROM:-0500
TZOFFSETTO:-0600
TZNAME:CST
DTSTART:20241103T070000
END:STANDARD
END:VTIMEZONE
BEGIN:VTIMEZONE
TZID:UTC
BEGIN:STANDARD
TZOFFSETFROM:+0000
TZOFFSETTO:+0000
TZNAME:UTC
DTSTART:20220101T000000
END:STANDARD
END:VTIMEZONE
BEGIN:VEVENT
DTSTART;TZID=America/New_York:20231004T130000
DTEND;TZID=America/New_York:20231004T140000
DTSTAMP:20260421T003630
CREATED:20230912T200858Z
LAST-MODIFIED:20230912T200858Z
UID:10000796-1696424400-1696428000@nexconational.com
SUMMARY:neXco National Fractional Accelerator B2B Chapter Information Session
DESCRIPTION:neXco National is excited to launch our next B2B chapter\, Fractional Accelerator! neXco National B2B chapters are comprised exclusively of Business-to-Business networkers. Members of neXco National B2B groups must market 100% exclusively to businesses. At it’s heart this chapter is comprised of fractional and outsourced professionals but this chapter extends to B2B networkers who love neXco as much as we do\, but don’t have an open seat or chapter in their area. We are your neXco home to experience all the benefits\, until you find your permanent chapter.  Our information session will be held on October 4\, 2023 from 1:00 pm – 2:00 pm (EDT) / 10:00 am – 11:00 am (PDT). We are looking for both leaders and founding members to start this chapter. RSVP to learn more! \nRSVP
URL:https://nexconational.com/event/nexco-national-fractional-accelerator-b2b-chapter-information-session/
LOCATION:Zoom
CATEGORIES:Information Sessions
ATTACH;FMTTYPE=image/png:https://nexconational.com/wp-content/uploads/2023/09/Info-Sessions.png
ORGANIZER;CN="neXco National":MAILTO:info@nexconational.com
END:VEVENT
BEGIN:VEVENT
DTSTART;TZID=America/New_York:20230928T160000
DTEND;TZID=America/New_York:20230928T170000
DTSTAMP:20260421T003630
CREATED:20230828T192223Z
LAST-MODIFIED:20230828T192315Z
UID:10000792-1695916800-1695920400@nexconational.com
SUMMARY:neXco National B2B Speed Networking
DESCRIPTION:Are you a B2B networker? Do you service and market 100% to businesses and business owners? \nIf so\, please join us at our VIRTUAL neXco National Speed Networking. \nYou will get the opportunity to meet 6 other B2B business professionals around the country who can potentially become referral centers and partners for your business. \nThis event is OPEN to all neXco National Members and Non-Members. There is no charge to attend. \nYou will be sent a Zoom link to the meeting upon registration. \nRegister Here!
URL:https://nexconational.com/event/nexco-national-b2b-speed-networking-exchange-2-2-2-2/2023-09-28/
LOCATION:Zoom
CATEGORIES:B2B Speed Networking,Virtual Community Events
ATTACH;FMTTYPE=image/png:https://nexconational.com/wp-content/uploads/2023/05/FINAL-Speed-Networking-512-×-512-px.png
ORGANIZER;CN="neXco National":MAILTO:info@nexconational.com
END:VEVENT
BEGIN:VEVENT
DTSTART;TZID=America/Chicago:20230913T120000
DTEND;TZID=America/Chicago:20230913T130000
DTSTAMP:20260421T003630
CREATED:20230720T224006Z
LAST-MODIFIED:20230907T161032Z
UID:10000781-1694606400-1694610000@nexconational.com
SUMMARY:neXco National Chicago\, IL B2B Chapter Information Session
DESCRIPTION:neXco National is excited to launch our next B2B Chapter in Chicago\, IL! neXco National B2B chapters are comprised exclusively of Business-to-Business networkers. Members of neXco National B2B groups must market 100% exclusively to businesses.  We are looking for both leaders and founding members to start this chapter. RSVP to learn more about this new chapter. \nLearn More!
URL:https://nexconational.com/event/nexco-national-chicago-il-b2b-chapter-information-session/
LOCATION:Zoom
CATEGORIES:Information Sessions
ATTACH;FMTTYPE=image/png:https://nexconational.com/wp-content/uploads/2023/07/Info-Sessions.png
ORGANIZER;CN="neXco National":MAILTO:info@nexconational.com
END:VEVENT
BEGIN:VEVENT
DTSTART;TZID=America/New_York:20230830T160000
DTEND;TZID=America/New_York:20230830T170000
DTSTAMP:20260421T003630
CREATED:20230720T223346Z
LAST-MODIFIED:20230815T181322Z
UID:10000779-1693411200-1693414800@nexconational.com
SUMMARY:neXco National SoCal B2B Chapter Information Session 1:00 pm - 2:00 pm (PDT)
DESCRIPTION:neXco National is excited to launch our next B2B Chapter in Southern California! neXco National B2B chapters are comprised exclusively of Business-to-Business networkers. Members of neXco National B2B groups must market 100% exclusively to businesses.  We are looking for both leaders and founding members to start this chapter. Our information session will be held on August 30\, 2023 from 1:00 pm – 2:00 pm (PDT) / 4:00 pm – 5:00 pm (EDT).  RSVP to learn more about this new chapter. \nRSVP here
URL:https://nexconational.com/event/nexco-national-socal-ca-b2b-chapter-information-session/
LOCATION:Zoom
CATEGORIES:Information Sessions
ATTACH;FMTTYPE=image/png:https://nexconational.com/wp-content/uploads/2023/07/SoCal-Info-Session.png
ORGANIZER;CN="neXco National":MAILTO:info@nexconational.com
END:VEVENT
BEGIN:VEVENT
DTSTART;TZID=America/New_York:20230824T160000
DTEND;TZID=America/New_York:20230824T170000
DTSTAMP:20260421T003630
CREATED:20230317T003216Z
LAST-MODIFIED:20230628T075107Z
UID:10000678-1692892800-1692896400@nexconational.com
SUMMARY:neXco National B2B Speed Networking
DESCRIPTION:Are you a B2B networker? Do you service and market 100% to businesses and business owners? \nIf so\, please join us at our VIRTUAL neXco National Speed Networking. \nYou will get the opportunity to meet 6 other B2B business professionals around the country who can potentially become referral centers and partners for your business. \nThis event is OPEN to all neXco National Members and Non-Members. There is no charge to attend. \nYou will be sent a Zoom link to the meeting upon registration. \nRegister Here!
URL:https://nexconational.com/event/nexco-national-b2b-speed-networking-exchange-2-2-2/2023-08-24/
CATEGORIES:B2B Speed Networking,Virtual Community Events
ATTACH;FMTTYPE=image/png:https://nexconational.com/wp-content/uploads/2023/05/FINAL-Speed-Networking-512-×-512-px.png
END:VEVENT
BEGIN:VEVENT
DTSTART;TZID=America/New_York:20230823T100000
DTEND;TZID=America/New_York:20230823T110000
DTSTAMP:20260421T003630
CREATED:20230720T223848Z
LAST-MODIFIED:20230720T223848Z
UID:10000780-1692784800-1692788400@nexconational.com
SUMMARY:neXco National Chicago\, IL B2B Chapter Information Session
DESCRIPTION:neXco National is excited to launch our next B2B Chapter in Chicago\, IL! neXco National B2B chapters are comprised exclusively of Business-to-Business networkers. Members of neXco National B2B groups must market 100% exclusively to businesses.  We are looking for both leaders and founding members to start this chapter. RSVP to learn more about this new chapter. \nLearn More! 
URL:https://nexconational.com/event/nexco-national-chicago-b2b-chapter-information-session/
LOCATION:Zoom
CATEGORIES:Information Sessions
ATTACH;FMTTYPE=image/png:https://nexconational.com/wp-content/uploads/2023/07/Info-Sessions.png
ORGANIZER;CN="neXco National":MAILTO:info@nexconational.com
END:VEVENT
BEGIN:VEVENT
DTSTART;TZID=America/New_York:20230727T160000
DTEND;TZID=America/New_York:20230727T170000
DTSTAMP:20260421T003630
CREATED:20230317T003216Z
LAST-MODIFIED:20230628T075107Z
UID:10000677-1690473600-1690477200@nexconational.com
SUMMARY:neXco National B2B Speed Networking
DESCRIPTION:Are you a B2B networker? Do you service and market 100% to businesses and business owners? \nIf so\, please join us at our VIRTUAL neXco National Speed Networking. \nYou will get the opportunity to meet 6 other B2B business professionals around the country who can potentially become referral centers and partners for your business. \nThis event is OPEN to all neXco National Members and Non-Members. There is no charge to attend. \nYou will be sent a Zoom link to the meeting upon registration. \nRegister Here!
URL:https://nexconational.com/event/nexco-national-b2b-speed-networking-exchange-2-2-2/2023-07-27/
CATEGORIES:B2B Speed Networking,Virtual Community Events
ATTACH;FMTTYPE=image/png:https://nexconational.com/wp-content/uploads/2023/05/FINAL-Speed-Networking-512-×-512-px.png
END:VEVENT
BEGIN:VEVENT
DTSTART;TZID=America/New_York:20230622T160000
DTEND;TZID=America/New_York:20230622T170000
DTSTAMP:20260421T003630
CREATED:20230317T003216Z
LAST-MODIFIED:20230628T075107Z
UID:10000676-1687449600-1687453200@nexconational.com
SUMMARY:neXco National B2B Speed Networking
DESCRIPTION:Are you a B2B networker? Do you service and market 100% to businesses and business owners? \nIf so\, please join us at our VIRTUAL neXco National Speed Networking. \nYou will get the opportunity to meet 6 other B2B business professionals around the country who can potentially become referral centers and partners for your business. \nThis event is OPEN to all neXco National Members and Non-Members. There is no charge to attend. \nYou will be sent a Zoom link to the meeting upon registration. \nRegister Here!
URL:https://nexconational.com/event/nexco-national-b2b-speed-networking-exchange-2-2-2/2023-06-22/
CATEGORIES:B2B Speed Networking,Virtual Community Events
ATTACH;FMTTYPE=image/png:https://nexconational.com/wp-content/uploads/2023/05/FINAL-Speed-Networking-512-×-512-px.png
END:VEVENT
BEGIN:VEVENT
DTSTART;TZID=UTC:20230612T180000
DTEND;TZID=UTC:20230612T200000
DTSTAMP:20260421T003630
CREATED:20230515T120715Z
LAST-MODIFIED:20230608T170150Z
UID:10000073-1686592800-1686600000@nexconational.com
SUMMARY:Springfield B2B In Person Networking
DESCRIPTION:Please join us at the Capital Ale House in Fairfax 6:00pm-8:00pm.\nRSVP to Bob Braden at rbradenjr@shinemanagement.com \nCapital Ale House\n4069 Chain Bridge Rd Suite 3D\nFairfax\, VA 22030
URL:https://nexconational.com/event/springfield-b2b-in-person-networking-2/
LOCATION:Zoom
CATEGORIES:Chapter & Cross Chapter Socials
ATTACH;FMTTYPE=image/png:https://nexconational.com/wp-content/uploads/2023/05/Springfield.png
ORGANIZER;CN="neXco National":MAILTO:info@nexconational.com
END:VEVENT
BEGIN:VEVENT
DTSTART;TZID=UTC:20230531T160000
DTEND;TZID=UTC:20230531T170000
DTSTAMP:20260421T003630
CREATED:20230512T134210Z
LAST-MODIFIED:20230608T171357Z
UID:10000057-1685548800-1685552400@nexconational.com
SUMMARY:neXco National San Francisco Bay Area\, CA B2B Chapter Information Session
DESCRIPTION:neXco National is excited to launch our next B2B Chapter in the San Francisco Bay Area\, California! neXco National B2B chapters are comprised exclusively of Business-to-Business networkers. Members of neXco National B2B groups must market 100% exclusively to businesses. We are looking for both leaders and founding members to start this chapter. RSVP to learn more about this new chapter.
URL:https://nexconational.com/event/nexco-national-san-francisco-bay-area-ca-b2b-chapter-information-session/
LOCATION:Zoom
CATEGORIES:Information Sessions
ATTACH;FMTTYPE=image/png:https://nexconational.com/wp-content/uploads/2023/05/San-Francisco.png
ORGANIZER;CN="neXco National":MAILTO:info@nexconational.com
END:VEVENT
BEGIN:VEVENT
DTSTART;TZID=America/New_York:20230525T160000
DTEND;TZID=America/New_York:20230525T170000
DTSTAMP:20260421T003630
CREATED:20230317T003216Z
LAST-MODIFIED:20230628T075107Z
UID:10000675-1685030400-1685034000@nexconational.com
SUMMARY:neXco National B2B Speed Networking
DESCRIPTION:Are you a B2B networker? Do you service and market 100% to businesses and business owners? \nIf so\, please join us at our VIRTUAL neXco National Speed Networking. \nYou will get the opportunity to meet 6 other B2B business professionals around the country who can potentially become referral centers and partners for your business. \nThis event is OPEN to all neXco National Members and Non-Members. There is no charge to attend. \nYou will be sent a Zoom link to the meeting upon registration. \nRegister Here!
URL:https://nexconational.com/event/nexco-national-b2b-speed-networking-exchange-2-2-2/2023-05-25/
CATEGORIES:B2B Speed Networking,Virtual Community Events
ATTACH;FMTTYPE=image/png:https://nexconational.com/wp-content/uploads/2023/05/FINAL-Speed-Networking-512-×-512-px.png
END:VEVENT
BEGIN:VEVENT
DTSTART;TZID=UTC:20230524T163000
DTEND;TZID=UTC:20230524T183000
DTSTAMP:20260421T003630
CREATED:20230512T132330Z
LAST-MODIFIED:20230512T132330Z
UID:10000047-1684945800-1684953000@nexconational.com
SUMMARY:neXco National’s Cocktails & Commerce
DESCRIPTION:Please join us on May 24\, 2023 at 4:30 pm for Cocktails & Commerce Networking at Old Line Spirits in Baltimore\, Maryland. This event is a Military Appreciation event. \nThis event is a cash bar. Appetizers will be provided.
URL:https://nexconational.com/event/nexco-nationals-cocktails-commerce-3/
LOCATION:Zoom
CATEGORIES:Live Community Events
ATTACH;FMTTYPE=image/png:https://nexconational.com/wp-content/uploads/2023/05/May-17th-.png
ORGANIZER;CN="neXco National":MAILTO:info@nexconational.com
END:VEVENT
BEGIN:VEVENT
DTSTART;TZID=UTC:20230518T120000
DTEND;TZID=UTC:20230518T130000
DTSTAMP:20260421T003630
CREATED:20230512T131236Z
LAST-MODIFIED:20230512T131236Z
UID:10000042-1684411200-1684414800@nexconational.com
SUMMARY:neXco Workshop: Tactics and Strategies for Business Development
DESCRIPTION:
URL:https://nexconational.com/event/nexco-workshop-tactics-and-strategies-for-business-development/
LOCATION:Zoom
CATEGORIES:Virtual Community Events
ATTACH;FMTTYPE=image/png:https://nexconational.com/wp-content/uploads/2023/05/neXco-workshop-promo-1.png
END:VEVENT
BEGIN:VEVENT
DTSTART;TZID=UTC:20230517T173000
DTEND;TZID=UTC:20230517T193000
DTSTAMP:20260421T003630
CREATED:20230512T101056Z
LAST-MODIFIED:20230512T101056Z
UID:10000021-1684344600-1684351800@nexconational.com
SUMMARY:neXco National’s Cocktails & Commerce
DESCRIPTION:Please join us on May 17\, 2023 at 5:30 pm for Cocktails & Commerce Networking at Honor Brewing Kitchen in Fairfax\, Virginia. This event is a Military Appreciation event. \nThis event is a cash bar. Appetizers will be provided.
URL:https://nexconational.com/event/nexco-nationals-cocktails-commerce/
LOCATION:Zoom
CATEGORIES:B2B Chapter Meetings
ATTACH;FMTTYPE=image/png:https://nexconational.com/wp-content/uploads/2023/05/May-17th-.png
ORGANIZER;CN="neXco National":MAILTO:info@nexconational.com
END:VEVENT
BEGIN:VEVENT
DTSTART;TZID=UTC:20230508T180000
DTEND;TZID=UTC:20230508T200000
DTSTAMP:20260421T003630
CREATED:20230512T125401Z
LAST-MODIFIED:20230608T173255Z
UID:10000031-1683568800-1683576000@nexconational.com
SUMMARY:Springfield B2B In Person Networking
DESCRIPTION:Please join us at the Capital Ale House in Fairfax 6:00pm-8:00pm.\nRSVP to Bob Braden at rbradenjr@shinemanagement.com \nCapital Ale House\n4069 Chain Bridge Rd Suite 3D\nFairfax\, VA 22030
URL:https://nexconational.com/event/springfield-b2b-in-person-networking/
LOCATION:Zoom
CATEGORIES:Chapter & Cross Chapter Socials
ATTACH;FMTTYPE=image/png:https://nexconational.com/wp-content/uploads/2023/05/Springfield.png
ORGANIZER;CN="neXco National":MAILTO:info@nexconational.com
END:VEVENT
BEGIN:VEVENT
DTSTART;TZID=America/New_York:20230427T160000
DTEND;TZID=America/New_York:20230427T170000
DTSTAMP:20260421T003630
CREATED:20230317T003216Z
LAST-MODIFIED:20230628T075107Z
UID:10000674-1682611200-1682614800@nexconational.com
SUMMARY:neXco National B2B Speed Networking
DESCRIPTION:Are you a B2B networker? Do you service and market 100% to businesses and business owners? \nIf so\, please join us at our VIRTUAL neXco National Speed Networking. \nYou will get the opportunity to meet 6 other B2B business professionals around the country who can potentially become referral centers and partners for your business. \nThis event is OPEN to all neXco National Members and Non-Members. There is no charge to attend. \nYou will be sent a Zoom link to the meeting upon registration. \nRegister Here!
URL:https://nexconational.com/event/nexco-national-b2b-speed-networking-exchange-2-2-2/2023-04-27/
CATEGORIES:B2B Speed Networking,Virtual Community Events
ATTACH;FMTTYPE=image/png:https://nexconational.com/wp-content/uploads/2023/05/FINAL-Speed-Networking-512-×-512-px.png
END:VEVENT
END:VCALENDAR